{
 "currentVersion": 10.81,
 "serviceDescription": "The National Elevation Dataset (NED) is a seamless raster product primarily derived from USGS 10- and 30-meter Digital Elevation Models (DEMs). NED data are available from The National Map Viewer as 1 arc-second (approximately 30 meters) for the CONUS, and at 1/3 and 1/9 arc-seconds (approximately 10 and 3 meters, respectively) for parts of the United States. - from the USGS National Map web site Constraints: Not to be used for navigation, for informational purposes only. See full disclaimer for more information",
 "name": "USGS_10_meter",
 "description": "The National Elevation Dataset (NED) is a seamless raster product primarily derived from USGS 10- and 30-meter Digital Elevation Models (DEMs). NED data are available from The National Map Viewer as 1 arc-second (approximately 30 meters) for the CONUS, and at 1/3 and 1/9 arc-seconds (approximately 10 and 3 meters, respectively) for parts of the United States. - from the USGS National Map web site Constraints: Not to be used for navigation, for informational purposes only. See full disclaimer for more information",
 "extent": {
  "xmin": 106356.99096187338,
  "ymin": 4483315,
  "xmax": 763296.9909618734,
  "ymax": 4984225,
  "spatialReference": {
   "wkid": 26718,
   "latestWkid": 26718
  }
 },
 "initialExtent": {
  "xmin": 106356.99096187338,
  "ymin": 4483315,
  "xmax": 763296.9909618734,
  "ymax": 4984225,
  "spatialReference": {
   "wkid": 26718,
   "latestWkid": 26718
  }
 },
 "fullExtent": {
  "xmin": 106356.99096187338,
  "ymin": 4483315,
  "xmax": 763296.9909618734,
  "ymax": 4984225,
  "spatialReference": {
   "wkid": 26718,
   "latestWkid": 26718
  }
 },
 "pixelSizeX": 10,
 "pixelSizeY": 10,
 "bandCount": 1,
 "pixelType": "F32",
 "minPixelSize": 0,
 "maxPixelSize": 0,
 "copyrightText": "NYSGPO, USGS",
 "serviceDataType": "esriImageServiceDataTypeGeneric",
 "minValues": [
  -6.599999904632568
 ],
 "maxValues": [
  1627.300048828125
 ],
 "meanValues": [
  321.7304523765546
 ],
 "stdvValues": [
  202.5369123960483
 ],
 "objectIdField": "",
 "fields": [],
 "capabilities": "Mensuration,Image,Metadata",
 "defaultMosaicMethod": "Center",
 "allowedMosaicMethods": "",
 "sortField": "",
 "sortValue": null,
 "sortAscending": true,
 "mosaicOperator": "First",
 "defaultCompressionQuality": 75,
 "defaultResamplingMethod": "Bilinear",
 "maxImageHeight": 4100,
 "maxImageWidth": 15000,
 "allowRasterFunction": true,
 "rasterFunctionInfos": [
  {
   "name": "None",
   "description": "",
   "help": ""
  }
 ],
 "rasterTypeInfos": [
  {
   "name": "Raster Dataset",
   "description": "Supports all ArcGIS Raster Datasets",
   "help": ""
  }
 ],
 "mensurationCapabilities": "Basic",
 "hasHistograms": true,
 "hasColormap": false,
 "hasRasterAttributeTable": false,
 "minScale": 0,
 "maxScale": 0,
 "exportTilesAllowed": false,
 "hasMultidimensions": false,
 "supportsStatistics": false,
 "supportsAdvancedQueries": false,
 "editFieldsInfo": null,
 "ownershipBasedAccessControlForRasters": null,
 "allowComputeTiePoints": false,
 "useStandardizedQueries": true,
 "advancedQueryCapabilities": {
  "useStandardizedQueries": true,
  "supportsStatistics": false,
  "supportsOrderBy": false,
  "supportsDistinct": false,
  "supportsPagination": false
 },
 "spatialReference": {
  "wkid": 26718,
  "latestWkid": 26718
 }
}
