{
 "currentVersion": 10.81,
 "serviceDescription": "USGS_LongIsland2014_1_meter",
 "name": "USGS_LongIsland2014_1_meter",
 "description": "USGS_LongIsland2014_1_meter",
 "extent": {
  "xmin": 96622.565,
  "ymin": 4501388,
  "xmax": 260109.565,
  "ymax": 4575732,
  "spatialReference": {
   "wkid": 26919,
   "latestWkid": 26919
  }
 },
 "initialExtent": {
  "xmin": 96622.565,
  "ymin": 4501388,
  "xmax": 260109.565,
  "ymax": 4575732,
  "spatialReference": {
   "wkid": 26919,
   "latestWkid": 26919
  }
 },
 "fullExtent": {
  "xmin": 96622.565,
  "ymin": 4501388,
  "xmax": 260109.565,
  "ymax": 4575732,
  "spatialReference": {
   "wkid": 26919,
   "latestWkid": 26919
  }
 },
 "pixelSizeX": 1,
 "pixelSizeY": 1,
 "bandCount": 1,
 "pixelType": "F32",
 "minPixelSize": 0,
 "maxPixelSize": 0,
 "copyrightText": "",
 "serviceDataType": "esriImageServiceDataTypeGeneric",
 "minValues": [
  -3.196002244949341
 ],
 "maxValues": [
  121.79471588134766
 ],
 "meanValues": [
  20.434207524572564
 ],
 "stdvValues": [
  19.830425224614046
 ],
 "objectIdField": "",
 "fields": [],
 "capabilities": "Mensuration,Image,Metadata",
 "defaultMosaicMethod": "Center",
 "allowedMosaicMethods": "",
 "sortField": "",
 "sortValue": null,
 "sortAscending": true,
 "mosaicOperator": "First",
 "defaultCompressionQuality": 75,
 "defaultResamplingMethod": "Bilinear",
 "maxImageHeight": 4100,
 "maxImageWidth": 15000,
 "allowRasterFunction": true,
 "rasterFunctionInfos": [
  {
   "name": "None",
   "description": "",
   "help": ""
  }
 ],
 "rasterTypeInfos": [
  {
   "name": "Raster Dataset",
   "description": "Supports all ArcGIS Raster Datasets",
   "help": ""
  }
 ],
 "mensurationCapabilities": "Basic",
 "hasHistograms": true,
 "hasColormap": false,
 "hasRasterAttributeTable": false,
 "minScale": 0,
 "maxScale": 0,
 "exportTilesAllowed": false,
 "hasMultidimensions": false,
 "supportsStatistics": false,
 "supportsAdvancedQueries": false,
 "editFieldsInfo": null,
 "ownershipBasedAccessControlForRasters": null,
 "allowComputeTiePoints": false,
 "useStandardizedQueries": true,
 "advancedQueryCapabilities": {
  "useStandardizedQueries": true,
  "supportsStatistics": false,
  "supportsOrderBy": false,
  "supportsDistinct": false,
  "supportsPagination": false
 },
 "spatialReference": {
  "wkid": 26919,
  "latestWkid": 26919
 }
}
