{ "currentVersion": 10.81, "serviceDescription": "

Product: These are Digital Elevation Model (DEM) data as part of the required deliverables for the lidar project. Class 2 (Ground) lidar points in conjunction with the hydro breaklines were used to create a 1 meter hydro-flattened Raster DEM.<\/SPAN><\/P>
Geographic Extent: Nassau and Suffolk counties, New York, covering approximately 1627 square miles. <\/SPAN><\/P>
Dataset Description: The lidar project called for the Planning, Acquisition, processing and derivative products of lidar data to be collected at a nominal pulse spacing (NPS) of 0.7 meters. Project specifications are based on the U.S. Geological Survey National Geospatial Program Base Lidar Specification, Version 2024 rev a. The data was developed based on a horizontal projection/datum of NAD83 (2011), Universal Transverse Mercator Zone 18N, meters and vertical datum of NAVD88 (GEOID18), meters. Lidar data was delivered as flightline-extent unclassified LAS swaths, and as processed Classified LAS 1.4 files, formatted to 1,873 individual 1500 m x 1500 m tiles, as tiled bare-earth DEMs; all tiled to the same 1500 m x 1500 m schema.<\/SPAN><\/P>
Ground Conditions: Lidar was collected in early 2024, while no snow was on the ground and rivers were at or below normal levels. In order to post process the lidar data to meet task order specifications and meet ASPRS vertical accuracy guidelines, Sanborn Map Company, Inc., established a total of 31 ground control points that were used to calibrate the lidar to known ground locations established throughout the project area.<\/SPAN><\/P>
An additional 102 independent accuracy checkpoints, 72 in Bare Earth and Urban landcovers (72 NVA points), 30 in Tall Grass and Brushland/Low Trees categories (30 VVA points), were used to assess the vertical accuracy of the data. These check points were not used to calibrate or post process the data.<\/SPAN><\/P>
LAS Metadata<\/SPAN><\/A><\/P>
DEM Metadata<\/SPAN><\/A><\/P>
NYS Elevation Program Page: <\/SPAN>https://gis.ny.gov/elevation<\/SPAN><\/A><\/P>
Last updated 07/01/2026. Please contact NYS ITS Geospatial Services at nysgis@its.ny.gov if you have any questions.<\/SPAN><\/P><\/DIV><\/DIV><\/DIV>", "name": "DEM_2024_Long_Island", "description": "

Product: These are Digital Elevation Model (DEM) data as part of the required deliverables for the lidar project. Class 2 (Ground) lidar points in conjunction with the hydro breaklines were used to create a 1 meter hydro-flattened Raster DEM.<\/SPAN><\/P>
Geographic Extent: Nassau and Suffolk counties, New York, covering approximately 1627 square miles. <\/SPAN><\/P>
Dataset Description: The lidar project called for the Planning, Acquisition, processing and derivative products of lidar data to be collected at a nominal pulse spacing (NPS) of 0.7 meters. Project specifications are based on the U.S. Geological Survey National Geospatial Program Base Lidar Specification, Version 2024 rev a. The data was developed based on a horizontal projection/datum of NAD83 (2011), Universal Transverse Mercator Zone 18N, meters and vertical datum of NAVD88 (GEOID18), meters. Lidar data was delivered as flightline-extent unclassified LAS swaths, and as processed Classified LAS 1.4 files, formatted to 1,873 individual 1500 m x 1500 m tiles, as tiled bare-earth DEMs; all tiled to the same 1500 m x 1500 m schema.<\/SPAN><\/P>
Ground Conditions: Lidar was collected in early 2024, while no snow was on the ground and rivers were at or below normal levels. In order to post process the lidar data to meet task order specifications and meet ASPRS vertical accuracy guidelines, Sanborn Map Company, Inc., established a total of 31 ground control points that were used to calibrate the lidar to known ground locations established throughout the project area.<\/SPAN><\/P>
An additional 102 independent accuracy checkpoints, 72 in Bare Earth and Urban landcovers (72 NVA points), 30 in Tall Grass and Brushland/Low Trees categories (30 VVA points), were used to assess the vertical accuracy of the data. These check points were not used to calibrate or post process the data.<\/SPAN><\/P>
LAS Metadata<\/SPAN><\/A><\/P>
DEM Metadata<\/SPAN><\/A><\/P>
NYS Elevation Program Page: <\/SPAN>https://gis.ny.gov/elevation<\/SPAN><\/A><\/P>
Last updated 07/01/2026. Please contact NYS ITS Geospatial Services at nysgis@its.ny.gov if you have any questions.<\/SPAN><\/P><\/DIV><\/DIV><\/DIV>", "extent": { "xmin": 603000, "ymin": 4491000, "xmax": 765000, "ymax": 4578000, "spatialReference": { "wkid": 26918, "latestWkid": 26918 } }, "initialExtent": { "xmin": 603000, "ymin": 4491000, "xmax": 765000, "ymax": 4578000, "spatialReference": { "wkid": 26918, "latestWkid": 26918 } }, "fullExtent": { "xmin": 603000, "ymin": 4491000, "xmax": 765000, "ymax": 4578000, "spatialReference": { "wkid": 26918, "latestWkid": 26918 } }, "pixelSizeX": 1, "pixelSizeY": 1, "bandCount": 1, "pixelType": "F32", "minPixelSize": 0, "maxPixelSize": 0, "copyrightText": "NYS ITS Geospatial Services, USGS", "serviceDataType": "esriImageServiceDataTypeGeneric", "minValues": [ -4.493486404418945 ], "maxValues": [ 121.82810974121094 ], "meanValues": [ 17.12146986204798 ], "stdvValues": [ 19.614799108575497 ], "objectIdField": "OBJECTID", "fields": [ { "name": "OBJECTID", "type": "esriFieldTypeOID", "alias": "OBJECTID", "domain": null }, { "name": "Shape", "type": "esriFieldTypeGeometry", "alias": "Shape", "domain": null }, { "name": "Name", "type": "esriFieldTypeString", "alias": "Name", "domain": null, "length": 200 }, { "name": "MinPS", "type": "esriFieldTypeDouble", "alias": "MinPS", "domain": null }, { "name": "MaxPS", "type": "esriFieldTypeDouble", "alias": "MaxPS", "domain": null }, { "name": "LowPS", "type": "esriFieldTypeDouble", "alias": "LowPS", "domain": null }, { "name": "HighPS", "type": "esriFieldTypeDouble", "alias": "HighPS", "domain": null }, { "name": "Category", "type": "esriFieldTypeInteger", "alias": "Category", "domain": { "type": "codedValue", "name": "MosaicCatalogItemCategoryDomain", "description": "Catalog item categories.", "codedValues": [ { "name": "Unknown", "code": 0 }, { "name": "Primary", "code": 1 }, { "name": "Overview", "code": 2 }, { "name": "Unprocessed Overview", "code": 3 }, { "name": "Partial Overview", "code": 4 }, { "name": "Inactive", "code": 5 }, { "name": "Uploaded", "code": 253 }, { "name": "Incomplete", "code": 254 }, { "name": "Custom", "code": 255 } ], "mergePolicy": "esriMPTDefaultValue", "splitPolicy": "esriSPTDefaultValue" } }, { "name": "Tag", "type": "esriFieldTypeString", "alias": "Tag", "domain": null, "length": 100 }, { "name": "GroupName", "type": "esriFieldTypeString", "alias": "GroupName", "domain": null, "length": 100 }, { "name": "ProductName", "type": "esriFieldTypeString", "alias": "ProductName", "domain": null, "length": 100 }, { "name": "CenterX", "type": "esriFieldTypeDouble", "alias": "CenterX", "domain": null }, { "name": "CenterY", "type": "esriFieldTypeDouble", "alias": "CenterY", "domain": null }, { "name": "ZOrder", "type": "esriFieldTypeInteger", "alias": "ZOrder", "domain": null }, { "name": "Shape_Length", "type": "esriFieldTypeDouble", "alias": "Shape_Length", "domain": null }, { "name": "Shape_Area", "type": "esriFieldTypeDouble", "alias": "Shape_Area", "domain": null } ], "capabilities": "Image,Metadata,Catalog", "defaultMosaicMethod": "Northwest", "allowedMosaicMethods": "NorthWest,Center,LockRaster,ByAttribute,Nadir,Viewpoint,Seamline,None", "sortField": "", "sortValue": null, "sortAscending": true, "mosaicOperator": "First", "maxDownloadSizeLimit": 2048, "defaultCompressionQuality": 75, "defaultResamplingMethod": "Bilinear", "maxImageHeight": 4100, "maxImageWidth": 15000, "maxRecordCount": 1000, "maxDownloadImageCount": 20, "maxMosaicImageCount": 20, "allowRasterFunction": true, "rasterFunctionInfos": [ { "name": "None", "description": "", "help": "" } ], "rasterTypeInfos": [ { "name": "Raster Dataset", "description": "Supports all ArcGIS Raster Datasets", "help": "" } ], "mensurationCapabilities": "None", "hasHistograms": true, "hasColormap": false, "hasRasterAttributeTable": false, "minScale": 0, "maxScale": 0, "exportTilesAllowed": false, "hasMultidimensions": false, "supportsStatistics": true, "supportsAdvancedQueries": true, "editFieldsInfo": null, "ownershipBasedAccessControlForRasters": null, "allowComputeTiePoints": false, "useStandardizedQueries": true, "advancedQueryCapabilities": { "useStandardizedQueries": true, "supportsStatistics": true, "supportsOrderBy": true, "supportsDistinct": true, "supportsPagination": true }, "spatialReference": { "wkid": 26918, "latestWkid": 26918 } }