{ "currentVersion": 10.81, "serviceDescription": "

1 meter hydro flattened bare earth Digital Elevation Model (DEM) ESRI Raster Image Service for the 2017 FEMA Fulton, Saratoga, Herkimer Franklin LIDAR Collection. LIDAR data was collected at a nominal pulse spacing (NPS) of 0.71 meter. Project specifications are based on the U.S. Geological Survey National Geospatial Program Base Lidar Specification, Version 1.2. The data was developed based on a horizontal projection/datum NAD83 (2011), State Plane New York East FIPS 3101, meters and vertical datum of NAVD88 (GEOID 12B), meters.<\/SPAN><\/P>
<\/P>
This material is based upon work supported by the U.S. Geological Survey under Grant/Cooperative Agreement No. G16PC00016, Task Order No. 140G0218F0009<\/SPAN><\/P>
<\/P>
The views and conclusions contained in this document are those of the authors and should not be interpreted as representing the opinions or policies of the U.S. Geological Survey. Mention of trade names or commercial products does not constitute their endorsement by the U.S. Geological Survey<\/SPAN><\/P><\/DIV><\/DIV><\/DIV>", "name": "FEMA_FultonSaratogaHerkimerFranklin2017_1meter", "description": "

1 meter hydro flattened bare earth Digital Elevation Model (DEM) ESRI Raster Image Service for the 2017 FEMA Fulton, Saratoga, Herkimer Franklin LIDAR Collection. LIDAR data was collected at a nominal pulse spacing (NPS) of 0.71 meter. Project specifications are based on the U.S. Geological Survey National Geospatial Program Base Lidar Specification, Version 1.2. The data was developed based on a horizontal projection/datum NAD83 (2011), State Plane New York East FIPS 3101, meters and vertical datum of NAVD88 (GEOID 12B), meters.<\/SPAN><\/P>
<\/P>
This material is based upon work supported by the U.S. Geological Survey under Grant/Cooperative Agreement No. G16PC00016, Task Order No. 140G0218F0009<\/SPAN><\/P>
<\/P>
The views and conclusions contained in this document are those of the authors and should not be interpreted as representing the opinions or policies of the U.S. Geological Survey. Mention of trade names or commercial products does not constitute their endorsement by the U.S. Geological Survey<\/SPAN><\/P><\/DIV><\/DIV><\/DIV>", "extent": { "xmin": 96000, "ymin": 456000, "xmax": 198000, "ymax": 649500, "spatialReference": {"wkt": "PROJCS[\"NAD_1983_StatePlane_New_York_East_FIPS_3101\",GEOGCS[\"GCS_North_American_1983\",DATUM[\"D_North_American_1983\",SPHEROID[\"GRS_1980\",6378137.0,298.257222101]],PRIMEM[\"Greenwich\",0.0],UNIT[\"Degree\",0.0174532925199433]],PROJECTION[\"Transverse_Mercator\"],PARAMETER[\"False_Easting\",150000.0],PARAMETER[\"False_Northing\",0.0],PARAMETER[\"Central_Meridian\",-74.5],PARAMETER[\"Scale_Factor\",0.9999],PARAMETER[\"Latitude_Of_Origin\",38.83333333333334],UNIT[\"Meter\",1.0]],VERTCS[\"unknown\",VDATUM[\"unknown\"],PARAMETER[\"Vertical_Shift\",0.0],PARAMETER[\"Direction\",1.0],UNIT[\"Meter\",1.0]]"} }, "initialExtent": { "xmin": 96000, "ymin": 456000, "xmax": 198000, "ymax": 649500, "spatialReference": {"wkt": "PROJCS[\"NAD_1983_StatePlane_New_York_East_FIPS_3101\",GEOGCS[\"GCS_North_American_1983\",DATUM[\"D_North_American_1983\",SPHEROID[\"GRS_1980\",6378137.0,298.257222101]],PRIMEM[\"Greenwich\",0.0],UNIT[\"Degree\",0.0174532925199433]],PROJECTION[\"Transverse_Mercator\"],PARAMETER[\"False_Easting\",150000.0],PARAMETER[\"False_Northing\",0.0],PARAMETER[\"Central_Meridian\",-74.5],PARAMETER[\"Scale_Factor\",0.9999],PARAMETER[\"Latitude_Of_Origin\",38.83333333333334],UNIT[\"Meter\",1.0]],VERTCS[\"unknown\",VDATUM[\"unknown\"],PARAMETER[\"Vertical_Shift\",0.0],PARAMETER[\"Direction\",1.0],UNIT[\"Meter\",1.0]]"} }, "fullExtent": { "xmin": 96000, "ymin": 456000, "xmax": 198000, "ymax": 649500, "spatialReference": {"wkt": "PROJCS[\"NAD_1983_StatePlane_New_York_East_FIPS_3101\",GEOGCS[\"GCS_North_American_1983\",DATUM[\"D_North_American_1983\",SPHEROID[\"GRS_1980\",6378137.0,298.257222101]],PRIMEM[\"Greenwich\",0.0],UNIT[\"Degree\",0.0174532925199433]],PROJECTION[\"Transverse_Mercator\"],PARAMETER[\"False_Easting\",150000.0],PARAMETER[\"False_Northing\",0.0],PARAMETER[\"Central_Meridian\",-74.5],PARAMETER[\"Scale_Factor\",0.9999],PARAMETER[\"Latitude_Of_Origin\",38.83333333333334],UNIT[\"Meter\",1.0]],VERTCS[\"unknown\",VDATUM[\"unknown\"],PARAMETER[\"Vertical_Shift\",0.0],PARAMETER[\"Direction\",1.0],UNIT[\"Meter\",1.0]]"} }, "heightModelInfo": { "heightModel": "gravity_related_height", "vertCRS": "unknown", "heightUnit": "meter" }, "pixelSizeX": 1, "pixelSizeY": 1, "bandCount": 1, "pixelType": "F32", "minPixelSize": 0, "maxPixelSize": 0, "copyrightText": "NYS Office of Information Technology Services GIS Program Office (GPO) / Federal Emergency Management Agency (FEMA)", "serviceDataType": "esriImageServiceDataTypeGeneric", "minValues": [ 125.82749938964844 ], "maxValues": [ 1017.2839965820312 ], "meanValues": [ 476.40001598698785 ], "stdvValues": [ 129.83175524294842 ], "objectIdField": "", "fields": [], "capabilities": "Image,Metadata,Mensuration", "defaultMosaicMethod": "Center", "allowedMosaicMethods": "", "sortField": "", "sortValue": null, "sortAscending": true, "mosaicOperator": "First", "defaultCompressionQuality": 75, "defaultResamplingMethod": "Bilinear", "maxImageHeight": 4100, "maxImageWidth": 15000, "allowRasterFunction": true, "rasterFunctionInfos": [ { "name": "None", "description": "", "help": "" } ], "rasterTypeInfos": [ { "name": "Raster Dataset", "description": "Supports all ArcGIS Raster Datasets", "help": "" } ], "mensurationCapabilities": "Basic", "hasHistograms": true, "hasColormap": false, "hasRasterAttributeTable": false, "minScale": 0, "maxScale": 0, "exportTilesAllowed": false, "hasMultidimensions": false, "supportsStatistics": false, "supportsAdvancedQueries": false, "editFieldsInfo": null, "ownershipBasedAccessControlForRasters": null, "allowComputeTiePoints": false, "useStandardizedQueries": true, "advancedQueryCapabilities": { "useStandardizedQueries": true, "supportsStatistics": false, "supportsOrderBy": false, "supportsDistinct": false, "supportsPagination": false }, "spatialReference": {"wkt": "PROJCS[\"NAD_1983_StatePlane_New_York_East_FIPS_3101\",GEOGCS[\"GCS_North_American_1983\",DATUM[\"D_North_American_1983\",SPHEROID[\"GRS_1980\",6378137.0,298.257222101]],PRIMEM[\"Greenwich\",0.0],UNIT[\"Degree\",0.0174532925199433]],PROJECTION[\"Transverse_Mercator\"],PARAMETER[\"False_Easting\",150000.0],PARAMETER[\"False_Northing\",0.0],PARAMETER[\"Central_Meridian\",-74.5],PARAMETER[\"Scale_Factor\",0.9999],PARAMETER[\"Latitude_Of_Origin\",38.83333333333334],UNIT[\"Meter\",1.0]],VERTCS[\"unknown\",VDATUM[\"unknown\"],PARAMETER[\"Vertical_Shift\",0.0],PARAMETER[\"Direction\",1.0],UNIT[\"Meter\",1.0]]"} }