{
 "currentVersion": 10.81,
 "serviceDescription": "FEMA_OneidaSubbasin_2017_1_meter",
 "name": "FEMA_OneidaSubbasin_2017_1_meter",
 "description": "",
 "extent": {
  "xmin": 266119,
  "ymin": 308170,
  "xmax": 342330,
  "ymax": 413032,
  "spatialReference": {
   "wkid": 32116,
   "latestWkid": 32116
  }
 },
 "initialExtent": {
  "xmin": 266119,
  "ymin": 308170,
  "xmax": 342330,
  "ymax": 413032,
  "spatialReference": {
   "wkid": 32116,
   "latestWkid": 32116
  }
 },
 "fullExtent": {
  "xmin": 266119,
  "ymin": 308170,
  "xmax": 342330,
  "ymax": 413032,
  "spatialReference": {
   "wkid": 32116,
   "latestWkid": 32116
  }
 },
 "pixelSizeX": 1,
 "pixelSizeY": 1,
 "bandCount": 1,
 "pixelType": "F32",
 "minPixelSize": 0,
 "maxPixelSize": 0,
 "copyrightText": "",
 "serviceDataType": "esriImageServiceDataTypeGeneric",
 "minValues": [
  110.08642578125
 ],
 "maxValues": [
  644.7783813476562
 ],
 "meanValues": [
  244.83913381325178
 ],
 "stdvValues": [
  141.9293092173847
 ],
 "objectIdField": "",
 "fields": [],
 "capabilities": "Mensuration,Image,Metadata",
 "defaultMosaicMethod": "Center",
 "allowedMosaicMethods": "",
 "sortField": "",
 "sortValue": null,
 "sortAscending": true,
 "mosaicOperator": "First",
 "defaultCompressionQuality": 75,
 "defaultResamplingMethod": "Bilinear",
 "maxImageHeight": 4100,
 "maxImageWidth": 15000,
 "allowRasterFunction": true,
 "rasterFunctionInfos": [
  {
   "name": "None",
   "description": "",
   "help": ""
  }
 ],
 "rasterTypeInfos": [
  {
   "name": "Raster Dataset",
   "description": "Supports all ArcGIS Raster Datasets",
   "help": ""
  }
 ],
 "mensurationCapabilities": "Basic",
 "hasHistograms": true,
 "hasColormap": false,
 "hasRasterAttributeTable": false,
 "minScale": 0,
 "maxScale": 0,
 "exportTilesAllowed": false,
 "hasMultidimensions": false,
 "supportsStatistics": false,
 "supportsAdvancedQueries": false,
 "editFieldsInfo": null,
 "ownershipBasedAccessControlForRasters": null,
 "allowComputeTiePoints": false,
 "useStandardizedQueries": true,
 "advancedQueryCapabilities": {
  "useStandardizedQueries": true,
  "supportsStatistics": false,
  "supportsOrderBy": false,
  "supportsDistinct": false,
  "supportsPagination": false
 },
 "spatialReference": {
  "wkid": 32116,
  "latestWkid": 32116
 }
}
