{ "currentVersion": 10.81, "serviceDescription": "

Mosaic dataset of high resolution (1 meter) Bare Earth Digital Elevation Model's (DEM's). Newest and hightest resolution data is stored on top. This mosaic is a combination of County, State, and Federal Collections. For more information please visit the DEM status page at <\/SPAN>https://gis.ny.gov/nys-dem<\/SPAN><\/A>. Please contact NYS ITS Geospatial Services at <\/SPAN>nysgis@its.ny.gov<\/SPAN><\/A>if you have any questions.<\/SPAN><\/P><\/DIV><\/DIV><\/DIV>", "name": "Latest_DEM", "description": "

Mosaic dataset of high resolution (1 meter) Bare Earth Digital Elevation Model's (DEM's). Newest and hightest resolution data is stored on top. This mosaic is a combination of County, State, and Federal Collections. For more information please visit the DEM status page at <\/SPAN>https://gis.ny.gov/nys-dem<\/SPAN><\/A>. Please contact NYS ITS Geospatial Services at <\/SPAN>nysgis@its.ny.gov<\/SPAN><\/A>if you have any questions.<\/SPAN><\/P><\/DIV><\/DIV><\/DIV>", "extent": { "xmin": 105009.48900000006, "ymin": 4482560.999999999, "xmax": 765000.4890000001, "ymax": 4985689.999999999, "spatialReference": { "wkid": 26918, "latestWkid": 26918 } }, "initialExtent": { "xmin": 105009.48900000006, "ymin": 4482560.999999999, "xmax": 765000.4890000001, "ymax": 4985689.999999999, "spatialReference": { "wkid": 26918, "latestWkid": 26918 } }, "fullExtent": { "xmin": 105009.48900000006, "ymin": 4482560.999999999, "xmax": 765000.4890000001, "ymax": 4985689.999999999, "spatialReference": { "wkid": 26918, "latestWkid": 26918 } }, "pixelSizeX": 1, "pixelSizeY": 1, "bandCount": 1, "pixelType": "F32", "minPixelSize": 0, "maxPixelSize": 0, "copyrightText": "NYS ITS Geospatial Services, United State Geological Survey (USGS), and FEMA", "serviceDataType": "esriImageServiceDataTypeGeneric", "minValues": [ -94.2557343095541 ], "maxValues": [ 1625.5989273637533 ], "meanValues": [ 346.39919067675567 ], "stdvValues": [ 181.37734759495868 ], "objectIdField": "OBJECTID", "fields": [ { "name": "OBJECTID", "type": "esriFieldTypeOID", "alias": "OBJECTID", "domain": null }, { "name": "Shape", "type": "esriFieldTypeGeometry", "alias": "Shape", "domain": null }, { "name": "Name", "type": "esriFieldTypeString", "alias": "Name", "domain": null, "length": 200 }, { "name": "MinPS", "type": "esriFieldTypeDouble", "alias": "MinPS", "domain": null }, { "name": "MaxPS", "type": "esriFieldTypeDouble", "alias": "MaxPS", "domain": null }, { "name": "LowPS", "type": "esriFieldTypeDouble", "alias": "LowPS", "domain": null }, { "name": "HighPS", "type": "esriFieldTypeDouble", "alias": "HighPS", "domain": null }, { "name": "Category", "type": "esriFieldTypeInteger", "alias": "Category", "domain": { "type": "codedValue", "name": "MosaicCatalogItemCategoryDomain", "description": "Catalog item categories.", "codedValues": [ { "name": "Unknown", "code": 0 }, { "name": "Primary", "code": 1 }, { "name": "Overview", "code": 2 }, { "name": "Unprocessed Overview", "code": 3 }, { "name": "Partial Overview", "code": 4 }, { "name": "Inactive", "code": 5 }, { "name": "Uploaded", "code": 253 }, { "name": "Incomplete", "code": 254 }, { "name": "Custom", "code": 255 } ], "mergePolicy": "esriMPTDefaultValue", "splitPolicy": "esriSPTDefaultValue" } }, { "name": "Tag", "type": "esriFieldTypeString", "alias": "Tag", "domain": null, "length": 100 }, { "name": "GroupName", "type": "esriFieldTypeString", "alias": "GroupName", "domain": null, "length": 100 }, { "name": "ProductName", "type": "esriFieldTypeString", "alias": "ProductName", "domain": null, "length": 100 }, { "name": "CenterX", "type": "esriFieldTypeDouble", "alias": "CenterX", "domain": null }, { "name": "CenterY", "type": "esriFieldTypeDouble", "alias": "CenterY", "domain": null }, { "name": "ZOrder", "type": "esriFieldTypeInteger", "alias": "ZOrder", "domain": null }, { "name": "Shape_Length", "type": "esriFieldTypeDouble", "alias": "Shape_Length", "domain": null }, { "name": "Shape_Area", "type": "esriFieldTypeDouble", "alias": "Shape_Area", "domain": null } ], "capabilities": "Image,Metadata,Catalog", "defaultMosaicMethod": "Northwest", "allowedMosaicMethods": "NorthWest,Center,LockRaster,ByAttribute,Nadir,Viewpoint,Seamline,None", "sortField": "", "sortValue": null, "sortAscending": true, "mosaicOperator": "First", "maxDownloadSizeLimit": 2048, "defaultCompressionQuality": 75, "defaultResamplingMethod": "Bilinear", "maxImageHeight": 4100, "maxImageWidth": 15000, "maxRecordCount": 1000, "maxDownloadImageCount": 20, "maxMosaicImageCount": 20, "allowRasterFunction": true, "rasterFunctionInfos": [ { "name": "None", "description": "", "help": "" } ], "rasterTypeInfos": [ { "name": "Raster Dataset", "description": "Supports all ArcGIS Raster Datasets", "help": "" } ], "mensurationCapabilities": "None", "hasHistograms": true, "hasColormap": false, "hasRasterAttributeTable": false, "minScale": 0, "maxScale": 0, "exportTilesAllowed": false, "hasMultidimensions": false, "supportsStatistics": true, "supportsAdvancedQueries": true, "editFieldsInfo": null, "ownershipBasedAccessControlForRasters": null, "allowComputeTiePoints": false, "useStandardizedQueries": true, "advancedQueryCapabilities": { "useStandardizedQueries": true, "supportsStatistics": true, "supportsOrderBy": true, "supportsDistinct": true, "supportsPagination": true }, "spatialReference": { "wkid": 26918, "latestWkid": 26918 } }