{
 "currentVersion": 10.81,
 "serviceDescription": "Mosaic Dataset of High Resolution (2 Meter or better) Bare Earth Digital Elevation Model's (DEM's) dating back to 2006. Newest and highest resolution data is stored on top. This mosaic is a combination of County, State, and Federal Collections, for more information please visit the DEM status page at http://gis.ny.gov/elevation/DEM-status.htm. Service last updated on 02/18/2022 with the NYSGPO Central Finger Lakes project. ",
 "name": "Latest_and_Greatest_DEM_Mosaic",
 "description": "Mosaic Dataset of High Resolution (2 Meter or better) Bare Earth Digital Elevation Model's (DEM's) dating back to 2006. Newest and highest resolution data is stored on top. This mosaic is a combination of County, State, and Federal Collections, for more information please visit the DEM status page at http://gis.ny.gov/elevation/DEM-status.htm. Service last updated on 02/18/2022 with the NYSGPO Central Finger Lakes project. ",
 "extent": {
  "xmin": -8881901.8868,
  "ymin": 4937487.5328,
  "xmax": -7989469.086800001,
  "ymax": 5625203.2328,
  "spatialReference": {
   "wkid": 102100,
   "latestWkid": 3857
  }
 },
 "initialExtent": {
  "xmin": -8881901.8868,
  "ymin": 4937487.5328,
  "xmax": -7989469.086800001,
  "ymax": 5625203.2328,
  "spatialReference": {
   "wkid": 102100,
   "latestWkid": 3857
  }
 },
 "fullExtent": {
  "xmin": -8881901.8868,
  "ymin": 4937487.5328,
  "xmax": -7989469.086800001,
  "ymax": 5625203.2328,
  "spatialReference": {
   "wkid": 102100,
   "latestWkid": 3857
  }
 },
 "pixelSizeX": 0.6999999999999998,
 "pixelSizeY": 0.7000000000000002,
 "bandCount": 1,
 "pixelType": "F32",
 "minPixelSize": 0,
 "maxPixelSize": 0,
 "copyrightText": "NYS ITS GIS Program Office",
 "serviceDataType": "esriImageServiceDataTypeGeneric",
 "minValues": [
  -9999
 ],
 "maxValues": [
  1562.48974609375
 ],
 "meanValues": [
  268.05176369305343
 ],
 "stdvValues": [
  697.3319664020258
 ],
 "objectIdField": "OBJECTID",
 "fields": [
  {
   "name": "OBJECTID",
   "type": "esriFieldTypeOID",
   "alias": "OBJECTID",
   "domain": null
  },
  {
   "name": "Shape",
   "type": "esriFieldTypeGeometry",
   "alias": "Shape",
   "domain": null
  },
  {
   "name": "Name",
   "type": "esriFieldTypeString",
   "alias": "Name",
   "domain": null,
   "length": 200
  },
  {
   "name": "Category",
   "type": "esriFieldTypeInteger",
   "alias": "Category",
   "domain": {
    "type": "codedValue",
    "name": "MosaicCatalogItemCategoryDomain",
    "description": "Catalog item categories.",
    "codedValues": [
     {
      "name": "Unknown",
      "code": 0
     },
     {
      "name": "Primary",
      "code": 1
     },
     {
      "name": "Overview",
      "code": 2
     },
     {
      "name": "Unprocessed Overview",
      "code": 3
     },
     {
      "name": "Partial Overview",
      "code": 4
     },
     {
      "name": "Inactive",
      "code": 5
     },
     {
      "name": "Uploaded",
      "code": 253
     },
     {
      "name": "Incomplete",
      "code": 254
     },
     {
      "name": "Custom",
      "code": 255
     }
    ],
    "mergePolicy": "esriMPTDefaultValue",
    "splitPolicy": "esriSPTDefaultValue"
   }
  },
  {
   "name": "ZOrder",
   "type": "esriFieldTypeInteger",
   "alias": "ZOrder",
   "domain": null
  }
 ],
 "capabilities": "Catalog,Download,Image,Metadata",
 "defaultMosaicMethod": "ByAttribute",
 "allowedMosaicMethods": "ByAttribute,NorthWest,Center,LockRaster,Nadir,Viewpoint,Seamline,None",
 "sortField": "ZOrder",
 "sortValue": "0",
 "sortAscending": false,
 "mosaicOperator": "First",
 "maxDownloadSizeLimit": 2048,
 "defaultCompressionQuality": 75,
 "defaultResamplingMethod": "Bilinear",
 "maxImageHeight": 4100,
 "maxImageWidth": 15000,
 "maxRecordCount": 1000,
 "maxDownloadImageCount": 20,
 "maxMosaicImageCount": 20,
 "allowRasterFunction": true,
 "rasterFunctionInfos": [
  {
   "name": "None",
   "description": "A No-Op Function.",
   "help": ""
  }
 ],
 "rasterTypeInfos": [
  {
   "name": "Raster Dataset",
   "description": "Supports all ArcGIS Raster Datasets",
   "help": ""
  }
 ],
 "mensurationCapabilities": "",
 "hasHistograms": true,
 "hasColormap": false,
 "hasRasterAttributeTable": false,
 "minScale": 0,
 "maxScale": 0,
 "exportTilesAllowed": false,
 "hasMultidimensions": false,
 "supportsStatistics": true,
 "supportsAdvancedQueries": true,
 "editFieldsInfo": null,
 "ownershipBasedAccessControlForRasters": null,
 "allowComputeTiePoints": false,
 "useStandardizedQueries": true,
 "advancedQueryCapabilities": {
  "useStandardizedQueries": true,
  "supportsStatistics": true,
  "supportsOrderBy": true,
  "supportsDistinct": true,
  "supportsPagination": true
 },
 "spatialReference": {
  "wkid": 102100,
  "latestWkid": 3857
 }
}
