View In:
ArcGIS JavaScript
ArcGIS Online map viewer
Google Earth
ArcMap
View Footprint In:
ArcGIS Online map viewer
Service Description: The bare earth digital elevation model (DEM) represents the earth's surface with all vegetation and anthropogenic features removed. It is derived from Green and NIR LiDAR data using TIN processing of the ground and bathymetric bottom point returns. Green LiDAR was used within the water's edge breakline for data splicing shape only (provided as another deliverable) and NIR LiDAR was used everywhere outside of this shape. Within the NIR-only portion of the AOI all rivers greater than 20 feet in width and lakes at least 0.25 acres in size have been flattened to consistent elevations. Some smaller streams and ponds were also flattened when deemed appropriate. Water boundary polygons were developed manually and by using automatic algorithms. Elevation values were then assigned to the water's edge from the LiDAR data creating 3D breaklines enforced during model creation to flatten water bodies. Some elevation values inside the NIR-only AOI have been interpolated across areas in the ground model where there is no elevation data (e.g. under dense vegetation). Within the green-only portion of the AOI (inside the low tide breaklines shape), the data has been clipped to avoid triangulation and false interpolation over areas identified as voids in the Bathymetric Coverage Polygon (provided as a separate deliverable).The horizontal datum for this dataset is NAD83, the vertical datum is NAVD88, Geoid 12B, and the data is projected in New York State Plane - Long Island. Units are in US Survey Feet. Quantum Spatial collected the New York City LiDAR data for The City of New York between 05/03/17 and 07/26/17.
Name: NYC_TopoBathymetric2017_1_foot
Description: The bare earth digital elevation model (DEM) represents the earth's surface with all vegetation and anthropogenic features removed. It is derived from Green and NIR LiDAR data using TIN processing of the ground and bathymetric bottom point returns. Green LiDAR was used within the water's edge breakline for data splicing shape only (provided as another deliverable) and NIR LiDAR was used everywhere outside of this shape. Within the NIR-only portion of the AOI all rivers greater than 20 feet in width and lakes at least 0.25 acres in size have been flattened to consistent elevations. Some smaller streams and ponds were also flattened when deemed appropriate. Water boundary polygons were developed manually and by using automatic algorithms. Elevation values were then assigned to the water's edge from the LiDAR data creating 3D breaklines enforced during model creation to flatten water bodies. Some elevation values inside the NIR-only AOI have been interpolated across areas in the ground model where there is no elevation data (e.g. under dense vegetation). Within the green-only portion of the AOI (inside the low tide breaklines shape), the data has been clipped to avoid triangulation and false interpolation over areas identified as voids in the Bathymetric Coverage Polygon (provided as a separate deliverable).The horizontal datum for this dataset is NAD83, the vertical datum is NAVD88, Geoid 12B, and the data is projected in New York State Plane - Long Island. Units are in US Survey Feet. Quantum Spatial collected the New York City LiDAR data for The City of New York between 05/03/17 and 07/26/17.
Single Fused Map Cache: false
Extent:
XMin: 913082
YMin: 118396.00000000748
XMax: 1067709
YMax: 273169.00000000745
Spatial Reference: 102718
(2263)
Initial Extent:
XMin: 913082
YMin: 118396.00000000748
XMax: 1067709
YMax: 273169.00000000745
Spatial Reference: 102718
(2263)
Full Extent:
XMin: 913082
YMin: 118396.00000000748
XMax: 1067709
YMax: 273169.00000000745
Spatial Reference: 102718
(2263)
Pixel Size X: 1.0
Pixel Size Y: 0.9999999999999998
Band Count: 1
Pixel Type: F32
RasterFunction Infos: {"name":"None","description":"","help":""}
Mensuration Capabilities: Basic
Has Histograms: true
Has Colormap: false
Has Multi Dimensions : false
Rendering Rule:
Min Scale: 0
Max Scale: 0
Copyright Text: The City of New York
Service Data Type: esriImageServiceDataTypeGeneric
Min Values: -49.70000076293945
Max Values: 412.45001220703125
Mean Values: 48.705539749930345
Standard Deviation Values: 51.14025233609841
Object ID Field:
Fields:
None
Default Mosaic Method: Center
Allowed Mosaic Methods:
SortField:
SortValue: null
Mosaic Operator: First
Default Compression Quality: 75
Default Resampling Method: Bilinear
Max Record Count: null
Max Image Height: 4100
Max Image Width: 15000
Max Download Image Count: null
Max Mosaic Image Count: null
Allow Raster Function: true
Allow Compute TiePoints: false
Supports Statistics: false
Supports Advanced Queries: false
Use StandardizedQueries: true
Raster Type Infos:
Name: Raster Dataset
Description: Supports all ArcGIS Raster Datasets
Help:
Has Raster Attribute Table: false
Edit Fields Info: null
Ownership Based AccessControl For Rasters: null
Child Resources:
Info
Histograms
Key Properties
Legend
MultiDimensionalInfo
rasterFunctionInfos
Supported Operations:
Export Image
Identify
Measure
Compute Histograms
Compute Statistics Histograms
Get Samples
Compute Class Statistics