{
 "currentVersion": 10.81,
 "serviceDescription": "1 meter hydro flattened bare earth Digital Elevation Model (DEM) ESRI Raster Image Service for the 2020 NYSGPO Central Finger Lakes LIDAR Collection. The lidar project called for the Planning, Acquisition, processing and derivative products of lidar data to be collected at a nominal pulse spacing (NPS) of 0.7 meters. Project specifications are based on the U.S. Geological Survey National Geospatial Program Base Lidar Specification, Version 2.1. The data was developed based on a horizontal projection/datum of NAD83 (2011), Universal Transverse Mercator, meters and vertical datum of NAVD88 (GEOID12B), meters. Lidar data was delivered as flightline-extent unclassified LAS swaths, as processed Classified LAS 1.4 files, formatted to 2239 individual 1500 m x 1500 m tiles, as tiled Intensity Rasters, and as tiled bare-earth DEMs; all tiled to the same 1500 m x 1500 m schema.",
 "name": "NYSGPO_CentralFingerLakes2020_1_meter",
 "description": "1 meter hydro flattened bare earth Digital Elevation Model (DEM) ESRI Raster Image Service for the 2020 NYSGPO Central Finger Lakes LIDAR Collection. The lidar project called for the Planning, Acquisition, processing and derivative products of lidar data to be collected at a nominal pulse spacing (NPS) of 0.7 meters. Project specifications are based on the U.S. Geological Survey National Geospatial Program Base Lidar Specification, Version 2.1. The data was developed based on a horizontal projection/datum of NAD83 (2011), Universal Transverse Mercator, meters and vertical datum of NAVD88 (GEOID12B), meters. Lidar data was delivered as flightline-extent unclassified LAS swaths, as processed Classified LAS 1.4 files, formatted to 2239 individual 1500 m x 1500 m tiles, as tiled Intensity Rasters, and as tiled bare-earth DEMs; all tiled to the same 1500 m x 1500 m schema.",
 "extent": {
  "xmin": 305999.9999999986,
  "ymin": 4677000,
  "xmax": 397499.9999999986,
  "ymax": 4788000,
  "spatialReference": {
   "wkid": 102387,
   "latestWkid": 6347,
   "vcsWkid": 5703,
   "latestVcsWkid": 5703
  }
 },
 "initialExtent": {
  "xmin": 305999.9999999986,
  "ymin": 4677000,
  "xmax": 397499.9999999986,
  "ymax": 4788000,
  "spatialReference": {
   "wkid": 102387,
   "latestWkid": 6347,
   "vcsWkid": 5703,
   "latestVcsWkid": 5703
  }
 },
 "fullExtent": {
  "xmin": 305999.9999999986,
  "ymin": 4677000,
  "xmax": 397499.9999999986,
  "ymax": 4788000,
  "spatialReference": {
   "wkid": 102387,
   "latestWkid": 6347,
   "vcsWkid": 5703,
   "latestVcsWkid": 5703
  }
 },
 "heightModelInfo": {
  "heightModel": "gravity_related_height",
  "vertCRS": "NAVD88 height",
  "heightUnit": "meter"
 },
 "pixelSizeX": 1,
 "pixelSizeY": 1,
 "bandCount": 1,
 "pixelType": "F32",
 "minPixelSize": 0,
 "maxPixelSize": 0,
 "copyrightText": "NYS GPO",
 "serviceDataType": "esriImageServiceDataTypeGeneric",
 "minValues": [
  75.83875274658203
 ],
 "maxValues": [
  640.4319458007812
 ],
 "meanValues": [
  274.796268444544
 ],
 "stdvValues": [
  130.71153197437997
 ],
 "objectIdField": "",
 "fields": [],
 "capabilities": "Image,Metadata,Mensuration",
 "defaultMosaicMethod": "Center",
 "allowedMosaicMethods": "",
 "sortField": "",
 "sortValue": null,
 "sortAscending": true,
 "mosaicOperator": "First",
 "defaultCompressionQuality": 75,
 "defaultResamplingMethod": "Bilinear",
 "maxImageHeight": 4100,
 "maxImageWidth": 15000,
 "allowRasterFunction": true,
 "rasterFunctionInfos": [
  {
   "name": "None",
   "description": "",
   "help": ""
  }
 ],
 "rasterTypeInfos": [
  {
   "name": "Raster Dataset",
   "description": "Supports all ArcGIS Raster Datasets",
   "help": ""
  }
 ],
 "mensurationCapabilities": "Basic",
 "hasHistograms": true,
 "hasColormap": false,
 "hasRasterAttributeTable": false,
 "minScale": 0,
 "maxScale": 0,
 "exportTilesAllowed": false,
 "hasMultidimensions": false,
 "supportsStatistics": false,
 "supportsAdvancedQueries": false,
 "editFieldsInfo": null,
 "ownershipBasedAccessControlForRasters": null,
 "allowComputeTiePoints": false,
 "useStandardizedQueries": true,
 "advancedQueryCapabilities": {
  "useStandardizedQueries": true,
  "supportsStatistics": false,
  "supportsOrderBy": false,
  "supportsDistinct": false,
  "supportsPagination": false
 },
 "spatialReference": {
  "wkid": 102387,
  "latestWkid": 6347,
  "vcsWkid": 5703,
  "latestVcsWkid": 5703
 }
}
