{
 "currentVersion": 10.81,
 "serviceDescription": "Digital Elevation Model (DEM) data for Chautauqua and portions of Cattaraugus Counties, New York as part of the required deliverables for the Southwest 17 Spring Lidar project. Class 2 (ground) lidar points in conjunction with the hydro breaklines were used to create a 1 meter hydro-flattened Raster DEM. Full metadata on this project can be found by visiting ftp://ftp.gis.ny.gov/elevation/DEM/NYSGPO_Southwest2017_Spring/2017NY-Southwest-NY-Hydro-Flattened-Bare-Earth-DEM-USGSv1.2.xml\n",
 "name": "NYSGPO_Southwest2017_Spring_1_meter",
 "description": "Digital Elevation Model (DEM) data for Chautauqua and portions of Cattaraugus Counties, New York as part of the required deliverables for the Southwest 17 Spring Lidar project. Class 2 (ground) lidar points in conjunction with the hydro breaklines were used to create a 1 meter hydro-flattened Raster DEM. Full metadata on this project can be found by visiting ftp://ftp.gis.ny.gov/elevation/DEM/NYSGPO_Southwest2017_Spring/2017NY-Southwest-NY-Hydro-Flattened-Bare-Earth-DEM-USGSv1.2.xml\n",
 "extent": {
  "xmin": 602000.0001220703,
  "ymin": 4650000.00012207,
  "xmax": 687500.0001220703,
  "ymax": 4716000.00012207,
  "spatialReference": {
   "wkid": 102386,
   "latestWkid": 6346
  }
 },
 "initialExtent": {
  "xmin": 602000.0001220703,
  "ymin": 4650000.00012207,
  "xmax": 687500.0001220703,
  "ymax": 4716000.00012207,
  "spatialReference": {
   "wkid": 102386,
   "latestWkid": 6346
  }
 },
 "fullExtent": {
  "xmin": 602000.0001220703,
  "ymin": 4650000.00012207,
  "xmax": 687500.0001220703,
  "ymax": 4716000.00012207,
  "spatialReference": {
   "wkid": 102386,
   "latestWkid": 6346
  }
 },
 "pixelSizeX": 1,
 "pixelSizeY": 1,
 "bandCount": 1,
 "pixelType": "F32",
 "minPixelSize": 0,
 "maxPixelSize": 0,
 "copyrightText": "NYS GIS Program Office",
 "serviceDataType": "esriImageServiceDataTypeGeneric",
 "minValues": [
  173.9199981689453
 ],
 "maxValues": [
  734.969970703125
 ],
 "meanValues": [
  439.37289567427536
 ],
 "stdvValues": [
  104.67504022158955
 ],
 "objectIdField": "",
 "fields": [],
 "capabilities": "Mensuration,Image,Metadata",
 "defaultMosaicMethod": "Center",
 "allowedMosaicMethods": "",
 "sortField": "",
 "sortValue": null,
 "sortAscending": true,
 "mosaicOperator": "First",
 "defaultCompressionQuality": 75,
 "defaultResamplingMethod": "Bilinear",
 "maxImageHeight": 4100,
 "maxImageWidth": 15000,
 "allowRasterFunction": true,
 "rasterFunctionInfos": [
  {
   "name": "None",
   "description": "",
   "help": ""
  }
 ],
 "rasterTypeInfos": [
  {
   "name": "Raster Dataset",
   "description": "Supports all ArcGIS Raster Datasets",
   "help": ""
  }
 ],
 "mensurationCapabilities": "Basic",
 "hasHistograms": true,
 "hasColormap": false,
 "hasRasterAttributeTable": false,
 "minScale": 0,
 "maxScale": 0,
 "exportTilesAllowed": false,
 "hasMultidimensions": false,
 "supportsStatistics": false,
 "supportsAdvancedQueries": false,
 "editFieldsInfo": null,
 "ownershipBasedAccessControlForRasters": null,
 "allowComputeTiePoints": false,
 "useStandardizedQueries": true,
 "advancedQueryCapabilities": {
  "useStandardizedQueries": true,
  "supportsStatistics": false,
  "supportsOrderBy": false,
  "supportsDistinct": false,
  "supportsPagination": false
 },
 "spatialReference": {
  "wkid": 102386,
  "latestWkid": 6346
 }
}
