{
 "currentVersion": 10.81,
 "serviceDescription": "1 meter hydro flattened bare earth Digital Elevation Model (DEM) ESRI Raster Image Service for the 2023 Lake Ontario Shoreline LIDAR Collection (Cayuga, Jefferson, Oswego, Wayne, St. Lawrence County). Geographic Extent: Portions of Cayuga, Jefferson, Oswego, Wanye and St. Larence Counties. Dataset Description: The lidar project called for the Planning, Acquisition, processing and derivative products of lidar data to be collected at a nominal pulse spacing (NPS) of 0.7 meters. Project specifications are based on the U.S. Geological Survey National Geospatial Program Base Lidar Specification v2021, Rev. A. The data was developed based on a horizontal projection/datum of NAD83 (2011), Universal Transverse Mercator, meters and vertical datum of NAVD88 (GEOID18), meters. Last updated 09/01/2025. Please contact NYS ITS Geospatial Services at nysgis@its.ny.gov if you have any questions.",
 "name": "NYS_LakeOntarioShoreline_2023_JeffersonOswegoWayneStLawrence",
 "description": "1 meter hydro flattened bare earth Digital Elevation Model (DEM) ESRI Raster Image Service for the 2023 Lake Ontario Shoreline LIDAR Collection (Cayuga, Jefferson, Oswego, Wayne, St. Lawrence County). Geographic Extent: Portions of Cayuga, Jefferson, Oswego, Wanye and St. Larence Counties. Dataset Description: The lidar project called for the Planning, Acquisition, processing and derivative products of lidar data to be collected at a nominal pulse spacing (NPS) of 0.7 meters. Project specifications are based on the U.S. Geological Survey National Geospatial Program Base Lidar Specification v2021, Rev. A. The data was developed based on a horizontal projection/datum of NAD83 (2011), Universal Transverse Mercator, meters and vertical datum of NAVD88 (GEOID18), meters. Last updated 09/01/2025. Please contact NYS ITS Geospatial Services at nysgis@its.ny.gov if you have any questions.",
 "extent": {
  "xmin": 306000,
  "ymin": 4783500,
  "xmax": 480000,
  "ymax": 4965000,
  "spatialReference": {
   "wkid": 102387,
   "latestWkid": 6347,
   "vcsWkid": 5703,
   "latestVcsWkid": 5703
  }
 },
 "initialExtent": {
  "xmin": 306000,
  "ymin": 4783500,
  "xmax": 480000,
  "ymax": 4965000,
  "spatialReference": {
   "wkid": 102387,
   "latestWkid": 6347,
   "vcsWkid": 5703,
   "latestVcsWkid": 5703
  }
 },
 "fullExtent": {
  "xmin": 306000,
  "ymin": 4783500,
  "xmax": 480000,
  "ymax": 4965000,
  "spatialReference": {
   "wkid": 102387,
   "latestWkid": 6347,
   "vcsWkid": 5703,
   "latestVcsWkid": 5703
  }
 },
 "heightModelInfo": {
  "heightModel": "gravity_related_height",
  "vertCRS": "NAVD_1988",
  "heightUnit": "meter"
 },
 "pixelSizeX": 1,
 "pixelSizeY": 1,
 "bandCount": 1,
 "pixelType": "F32",
 "minPixelSize": 0,
 "maxPixelSize": 0,
 "copyrightText": "NYS ITS Geospatial Services",
 "serviceDataType": "esriImageServiceDataTypeGeneric",
 "minValues": [
  69.2300033569336
 ],
 "maxValues": [
  561.43701171875
 ],
 "meanValues": [
  141.17555454454404
 ],
 "stdvValues": [
  91.71686619716077
 ],
 "objectIdField": "",
 "fields": [],
 "capabilities": "Image,Metadata,Mensuration",
 "defaultMosaicMethod": "Center",
 "allowedMosaicMethods": "",
 "sortField": "",
 "sortValue": null,
 "sortAscending": true,
 "mosaicOperator": "First",
 "defaultCompressionQuality": 75,
 "defaultResamplingMethod": "Bilinear",
 "maxImageHeight": 4100,
 "maxImageWidth": 15000,
 "allowRasterFunction": true,
 "rasterFunctionInfos": [
  {
   "name": "None",
   "description": "",
   "help": ""
  }
 ],
 "rasterTypeInfos": [
  {
   "name": "Raster Dataset",
   "description": "Supports all ArcGIS Raster Datasets",
   "help": ""
  }
 ],
 "mensurationCapabilities": "Basic",
 "hasHistograms": true,
 "hasColormap": false,
 "hasRasterAttributeTable": false,
 "minScale": 0,
 "maxScale": 0,
 "exportTilesAllowed": false,
 "hasMultidimensions": false,
 "supportsStatistics": false,
 "supportsAdvancedQueries": false,
 "editFieldsInfo": null,
 "ownershipBasedAccessControlForRasters": null,
 "allowComputeTiePoints": false,
 "useStandardizedQueries": true,
 "advancedQueryCapabilities": {
  "useStandardizedQueries": true,
  "supportsStatistics": false,
  "supportsOrderBy": false,
  "supportsDistinct": false,
  "supportsPagination": false
 },
 "spatialReference": {
  "wkid": 102387,
  "latestWkid": 6347,
  "vcsWkid": 5703,
  "latestVcsWkid": 5703
 }
}
