{
 "currentVersion": 10.81,
 "serviceDescription": "The New York, Work Unit 300713 Lidar project called for the Planning, Acquisition, processing and derivative products of lidar data to be collected at a nominal point density of 2 points per square meter for QL2 data. Project specifications are based on the U.S. Geological Survey National Geospatial Program Base Lidar Specification 2024, revision A. The data was developed based on a horizontal projection/datum of NAD83 (2011), UTM 18N, meters and vertical datum of NAVD88 (GEOID18), meters. This task is for providing a spring 2024 leaf-off and snow-free lidar survey over an area of approximately 2,872 square miles. This project will support the 3DEP mission, the Natural Resources Conservation Service (NRCS) high-resolution elevation enterprise, as well as many state and local agencies. The New York work unit is approximately 2285 square miles and has 2810 tiles. To acquire detailed surface elevation data for use in conservation planning, design, research, floodplain mapping, dam safety assessments and elevation modeling, etc. Classified LAS files are used to show the manually reviewed bare earth surface. This allows the user to create intensity images, breaklines and raster DEMs. The purpose of these LiDAR data was to produce an auto generated elevation models (DEMs) with a 1 meter cell size.\n",
 "name": "USGS_2024_1_meter",
 "description": "The New York, Work Unit 300713 Lidar project called for the Planning, Acquisition, processing and derivative products of lidar data to be collected at a nominal point density of 2 points per square meter for QL2 data. Project specifications are based on the U.S. Geological Survey National Geospatial Program Base Lidar Specification 2024, revision A. The data was developed based on a horizontal projection/datum of NAD83 (2011), UTM 18N, meters and vertical datum of NAVD88 (GEOID18), meters. This task is for providing a spring 2024 leaf-off and snow-free lidar survey over an area of approximately 2,872 square miles. This project will support the 3DEP mission, the Natural Resources Conservation Service (NRCS) high-resolution elevation enterprise, as well as many state and local agencies. The New York work unit is approximately 2285 square miles and has 2810 tiles. To acquire detailed surface elevation data for use in conservation planning, design, research, floodplain mapping, dam safety assessments and elevation modeling, etc. Classified LAS files are used to show the manually reviewed bare earth surface. This allows the user to create intensity images, breaklines and raster DEMs. The purpose of these LiDAR data was to produce an auto generated elevation models (DEMs) with a 1 meter cell size.\n",
 "extent": {
  "xmin": 535399,
  "ymin": 4800401,
  "xmax": 642079,
  "ymax": 4904344,
  "spatialReference": {
   "wkid": 102387,
   "latestWkid": 6347,
   "vcsWkid": 5703,
   "latestVcsWkid": 5703
  }
 },
 "initialExtent": {
  "xmin": 535399,
  "ymin": 4800401,
  "xmax": 642079,
  "ymax": 4904344,
  "spatialReference": {
   "wkid": 102387,
   "latestWkid": 6347,
   "vcsWkid": 5703,
   "latestVcsWkid": 5703
  }
 },
 "fullExtent": {
  "xmin": 535399,
  "ymin": 4800401,
  "xmax": 642079,
  "ymax": 4904344,
  "spatialReference": {
   "wkid": 102387,
   "latestWkid": 6347,
   "vcsWkid": 5703,
   "latestVcsWkid": 5703
  }
 },
 "heightModelInfo": {
  "heightModel": "gravity_related_height",
  "vertCRS": "NAVD_1988",
  "heightUnit": "meter"
 },
 "pixelSizeX": 1,
 "pixelSizeY": 1,
 "bandCount": 1,
 "pixelType": "F32",
 "minPixelSize": 0,
 "maxPixelSize": 0,
 "copyrightText": "NYS ITS Geospatial Services, USGS",
 "serviceDataType": "esriImageServiceDataTypeGeneric",
 "minValues": [
  28.391605377197266
 ],
 "maxValues": [
  1628.863037109375
 ],
 "meanValues": [
  453.41652075902743
 ],
 "stdvValues": [
  210.7686984336522
 ],
 "objectIdField": "",
 "fields": [],
 "capabilities": "Image,Metadata,Mensuration",
 "defaultMosaicMethod": "Center",
 "allowedMosaicMethods": "",
 "sortField": "",
 "sortValue": null,
 "sortAscending": true,
 "mosaicOperator": "First",
 "defaultCompressionQuality": 75,
 "defaultResamplingMethod": "Bilinear",
 "maxImageHeight": 4100,
 "maxImageWidth": 15000,
 "allowRasterFunction": true,
 "rasterFunctionInfos": [
  {
   "name": "None",
   "description": "",
   "help": ""
  }
 ],
 "rasterTypeInfos": [
  {
   "name": "Raster Dataset",
   "description": "Supports all ArcGIS Raster Datasets",
   "help": ""
  }
 ],
 "mensurationCapabilities": "Basic",
 "hasHistograms": true,
 "hasColormap": false,
 "hasRasterAttributeTable": false,
 "minScale": 0,
 "maxScale": 0,
 "exportTilesAllowed": false,
 "hasMultidimensions": false,
 "supportsStatistics": false,
 "supportsAdvancedQueries": false,
 "editFieldsInfo": null,
 "ownershipBasedAccessControlForRasters": null,
 "allowComputeTiePoints": false,
 "useStandardizedQueries": true,
 "advancedQueryCapabilities": {
  "useStandardizedQueries": true,
  "supportsStatistics": false,
  "supportsOrderBy": false,
  "supportsDistinct": false,
  "supportsPagination": false
 },
 "spatialReference": {
  "wkid": 102387,
  "latestWkid": 6347,
  "vcsWkid": 5703,
  "latestVcsWkid": 5703
 }
}
