{
 "currentVersion": 10.81,
 "serviceDescription": "1 meter hydro flattened bare earth Digital Elevation Model (DEM) ESRI Raster Image Service for the 2022 USGS Lake Ontario - Hudson River Region LIDAR Collection. Please contact NYS ITS Geospatial Services at nysgis@its.ny.gov if you have any questions. Geographic Extent: Columbia, Jefferson, Lewis, Rensselaer, Saratoga, Warren, and Washington County New York, covering approximately 3279 square miles. Dataset Description: The lidar project called for the Planning, Acquisition, processing and derivative products of lidar data to be collected at a nominal pulse spacing (NPS) of 0.7 meters. Project specifications are based on the U.S. Geological Survey National Geospatial Program Base Lidar Specification v2021, Rev. A. The data was developed based on a horizontal projection/datum of NAD83 (2011), Universal Transverse Mercator, meters and vertical datum of NAVD88 (GEOID18), meters. Please contact NYS ITS Geospatial Services at nysgis@its.ny.gov if you have any questions.",
 "name": "USGS_LakeOntario_HudsonRiver_2022_1meter",
 "description": "1 meter hydro flattened bare earth Digital Elevation Model (DEM) ESRI Raster Image Service for the 2022 USGS Lake Ontario - Hudson River Region LIDAR Collection. Please contact NYS ITS Geospatial Services at nysgis@its.ny.gov if you have any questions. Geographic Extent: Columbia, Jefferson, Lewis, Rensselaer, Saratoga, Warren, and Washington County New York, covering approximately 3279 square miles. Dataset Description: The lidar project called for the Planning, Acquisition, processing and derivative products of lidar data to be collected at a nominal pulse spacing (NPS) of 0.7 meters. Project specifications are based on the U.S. Geological Survey National Geospatial Program Base Lidar Specification v2021, Rev. A. The data was developed based on a horizontal projection/datum of NAD83 (2011), Universal Transverse Mercator, meters and vertical datum of NAVD88 (GEOID18), meters. Please contact NYS ITS Geospatial Services at nysgis@its.ny.gov if you have any questions.",
 "extent": {
  "xmin": 413500,
  "ymin": 4648000,
  "xmax": 642500,
  "ymax": 4901000,
  "spatialReference": {
   "wkt": "PROJCS[\"NAD_1983_2011_UTM_Zone_18N\",GEOGCS[\"GCS_NAD_1983_2011\",DATUM[\"D_NAD_1983_2011\",SPHEROID[\"GRS_1980\",6378137.0,298.257222101]],PRIMEM[\"Greenwich\",0.0],UNIT[\"Degree\",0.0174532925199433]],PROJECTION[\"Transverse_Mercator\"],PARAMETER[\"False_Easting\",500000.0],PARAMETER[\"False_Northing\",0.0],PARAMETER[\"Central_Meridian\",-75.0],PARAMETER[\"Scale_Factor\",0.9996],PARAMETER[\"Latitude_Of_Origin\",0.0],UNIT[\"Meter\",1.0]],VERTCS[\"NAVD88 heights\",VDATUM[\"North American Vertical Datum 1988\"],PARAMETER[\"Vertical_Shift\",0.0],PARAMETER[\"Direction\",1.0],UNIT[\"Meter\",1.0]]"
  }
 },
 "initialExtent": {
  "xmin": 413500,
  "ymin": 4648000,
  "xmax": 642500,
  "ymax": 4901000,
  "spatialReference": {
   "wkt": "PROJCS[\"NAD_1983_2011_UTM_Zone_18N\",GEOGCS[\"GCS_NAD_1983_2011\",DATUM[\"D_NAD_1983_2011\",SPHEROID[\"GRS_1980\",6378137.0,298.257222101]],PRIMEM[\"Greenwich\",0.0],UNIT[\"Degree\",0.0174532925199433]],PROJECTION[\"Transverse_Mercator\"],PARAMETER[\"False_Easting\",500000.0],PARAMETER[\"False_Northing\",0.0],PARAMETER[\"Central_Meridian\",-75.0],PARAMETER[\"Scale_Factor\",0.9996],PARAMETER[\"Latitude_Of_Origin\",0.0],UNIT[\"Meter\",1.0]],VERTCS[\"NAVD88 heights\",VDATUM[\"North American Vertical Datum 1988\"],PARAMETER[\"Vertical_Shift\",0.0],PARAMETER[\"Direction\",1.0],UNIT[\"Meter\",1.0]]"
  }
 },
 "fullExtent": {
  "xmin": 413500,
  "ymin": 4648000,
  "xmax": 642500,
  "ymax": 4901000,
  "spatialReference": {
   "wkt": "PROJCS[\"NAD_1983_2011_UTM_Zone_18N\",GEOGCS[\"GCS_NAD_1983_2011\",DATUM[\"D_NAD_1983_2011\",SPHEROID[\"GRS_1980\",6378137.0,298.257222101]],PRIMEM[\"Greenwich\",0.0],UNIT[\"Degree\",0.0174532925199433]],PROJECTION[\"Transverse_Mercator\"],PARAMETER[\"False_Easting\",500000.0],PARAMETER[\"False_Northing\",0.0],PARAMETER[\"Central_Meridian\",-75.0],PARAMETER[\"Scale_Factor\",0.9996],PARAMETER[\"Latitude_Of_Origin\",0.0],UNIT[\"Meter\",1.0]],VERTCS[\"NAVD88 heights\",VDATUM[\"North American Vertical Datum 1988\"],PARAMETER[\"Vertical_Shift\",0.0],PARAMETER[\"Direction\",1.0],UNIT[\"Meter\",1.0]]"
  }
 },
 "heightModelInfo": {
  "heightModel": "gravity_related_height",
  "vertCRS": "NAVD88 heights",
  "heightUnit": "meter"
 },
 "pixelSizeX": 1,
 "pixelSizeY": 1,
 "bandCount": 1,
 "pixelType": "F32",
 "minPixelSize": 0,
 "maxPixelSize": 0,
 "copyrightText": "NYS ITS Geospatial Services",
 "serviceDataType": "esriImageServiceDataTypeGeneric",
 "minValues": [
  -0.93999999761581
 ],
 "maxValues": [
  853.39868164062
 ],
 "meanValues": [
  217.70313766704
 ],
 "stdvValues": [
  131.00130599196
 ],
 "objectIdField": "",
 "fields": [],
 "capabilities": "Image,Metadata,Mensuration",
 "defaultMosaicMethod": "Center",
 "allowedMosaicMethods": "",
 "sortField": "",
 "sortValue": null,
 "sortAscending": true,
 "mosaicOperator": "First",
 "defaultCompressionQuality": 75,
 "defaultResamplingMethod": "Bilinear",
 "maxImageHeight": 4100,
 "maxImageWidth": 15000,
 "allowRasterFunction": true,
 "rasterFunctionInfos": [
  {
   "name": "None",
   "description": "",
   "help": ""
  }
 ],
 "rasterTypeInfos": [
  {
   "name": "Raster Dataset",
   "description": "Supports all ArcGIS Raster Datasets",
   "help": ""
  }
 ],
 "mensurationCapabilities": "Basic",
 "hasHistograms": true,
 "hasColormap": false,
 "hasRasterAttributeTable": false,
 "minScale": 0,
 "maxScale": 0,
 "exportTilesAllowed": false,
 "hasMultidimensions": false,
 "supportsStatistics": false,
 "supportsAdvancedQueries": false,
 "editFieldsInfo": null,
 "ownershipBasedAccessControlForRasters": null,
 "allowComputeTiePoints": false,
 "useStandardizedQueries": true,
 "advancedQueryCapabilities": {
  "useStandardizedQueries": true,
  "supportsStatistics": false,
  "supportsOrderBy": false,
  "supportsDistinct": false,
  "supportsPagination": false
 },
 "spatialReference": {
  "wkt": "PROJCS[\"NAD_1983_2011_UTM_Zone_18N\",GEOGCS[\"GCS_NAD_1983_2011\",DATUM[\"D_NAD_1983_2011\",SPHEROID[\"GRS_1980\",6378137.0,298.257222101]],PRIMEM[\"Greenwich\",0.0],UNIT[\"Degree\",0.0174532925199433]],PROJECTION[\"Transverse_Mercator\"],PARAMETER[\"False_Easting\",500000.0],PARAMETER[\"False_Northing\",0.0],PARAMETER[\"Central_Meridian\",-75.0],PARAMETER[\"Scale_Factor\",0.9996],PARAMETER[\"Latitude_Of_Origin\",0.0],UNIT[\"Meter\",1.0]],VERTCS[\"NAVD88 heights\",VDATUM[\"North American Vertical Datum 1988\"],PARAMETER[\"Vertical_Shift\",0.0],PARAMETER[\"Direction\",1.0],UNIT[\"Meter\",1.0]]"
 }
}
