{
 "currentVersion": 10.81,
 "serviceDescription": "USGS_Northeast2011_2_meter",
 "name": "USGS_Northeast2011_2_meter",
 "description": "USGS_Northeast2011_2_meter",
 "extent": {
  "xmin": 564058.000000001,
  "ymin": 4492499.999999563,
  "xmax": 633528.000000001,
  "ymax": 4615499.999999563,
  "spatialReference": {
   "wkid": 26918,
   "latestWkid": 26918
  }
 },
 "initialExtent": {
  "xmin": 564058.000000001,
  "ymin": 4492499.999999563,
  "xmax": 633528.000000001,
  "ymax": 4615499.999999563,
  "spatialReference": {
   "wkid": 26918,
   "latestWkid": 26918
  }
 },
 "fullExtent": {
  "xmin": 564058.000000001,
  "ymin": 4492499.999999563,
  "xmax": 633528.000000001,
  "ymax": 4615499.999999563,
  "spatialReference": {
   "wkid": 26918,
   "latestWkid": 26918
  }
 },
 "pixelSizeX": 2,
 "pixelSizeY": 2,
 "bandCount": 1,
 "pixelType": "F32",
 "minPixelSize": 0,
 "maxPixelSize": 0,
 "copyrightText": "",
 "serviceDataType": "esriImageServiceDataTypeGeneric",
 "minValues": [
  -80.87000274658203
 ],
 "maxValues": [
  489.52142333984375
 ],
 "meanValues": [
  68.95326410756762
 ],
 "stdvValues": [
  83.15439646357274
 ],
 "objectIdField": "",
 "fields": [],
 "capabilities": "Mensuration,Image,Metadata",
 "defaultMosaicMethod": "Center",
 "allowedMosaicMethods": "",
 "sortField": "",
 "sortValue": null,
 "sortAscending": true,
 "mosaicOperator": "First",
 "defaultCompressionQuality": 75,
 "defaultResamplingMethod": "Bilinear",
 "maxImageHeight": 4100,
 "maxImageWidth": 15000,
 "allowRasterFunction": true,
 "rasterFunctionInfos": [
  {
   "name": "None",
   "description": "",
   "help": ""
  }
 ],
 "rasterTypeInfos": [
  {
   "name": "Raster Dataset",
   "description": "Supports all ArcGIS Raster Datasets",
   "help": ""
  }
 ],
 "mensurationCapabilities": "Basic",
 "hasHistograms": true,
 "hasColormap": false,
 "hasRasterAttributeTable": false,
 "minScale": 0,
 "maxScale": 0,
 "exportTilesAllowed": false,
 "hasMultidimensions": false,
 "supportsStatistics": false,
 "supportsAdvancedQueries": false,
 "editFieldsInfo": null,
 "ownershipBasedAccessControlForRasters": null,
 "allowComputeTiePoints": false,
 "useStandardizedQueries": true,
 "advancedQueryCapabilities": {
  "useStandardizedQueries": true,
  "supportsStatistics": false,
  "supportsOrderBy": false,
  "supportsDistinct": false,
  "supportsPagination": false
 },
 "spatialReference": {
  "wkid": 26918,
  "latestWkid": 26918
 }
}
