{
 "currentVersion": 10.81,
 "serviceDescription": "Vermont_GrandIsle2013_07_meter",
 "name": "Vermont_GrandIsle2013_07_meter",
 "description": "Vermont_GrandIsle2013_07_meter",
 "extent": {
  "xmin": 426784.4,
  "ymin": 170174.89999999997,
  "xmax": 488674.9,
  "ymax": 279672.39999999997,
  "spatialReference": {
   "wkid": 32145,
   "latestWkid": 32145
  }
 },
 "initialExtent": {
  "xmin": 426784.4,
  "ymin": 170174.89999999997,
  "xmax": 488674.9,
  "ymax": 279672.39999999997,
  "spatialReference": {
   "wkid": 32145,
   "latestWkid": 32145
  }
 },
 "fullExtent": {
  "xmin": 426784.4,
  "ymin": 170174.89999999997,
  "xmax": 488674.9,
  "ymax": 279672.39999999997,
  "spatialReference": {
   "wkid": 32145,
   "latestWkid": 32145
  }
 },
 "pixelSizeX": 0.7,
 "pixelSizeY": 0.7,
 "bandCount": 1,
 "pixelType": "F32",
 "minPixelSize": 0,
 "maxPixelSize": 0,
 "copyrightText": "",
 "serviceDataType": "esriImageServiceDataTypeGeneric",
 "minValues": [
  12.79465103149414
 ],
 "maxValues": [
  1090.2137451171875
 ],
 "meanValues": [
  165.70269825716613
 ],
 "stdvValues": [
  195.75157325837824
 ],
 "objectIdField": "",
 "fields": [],
 "capabilities": "Mensuration,Image,Metadata",
 "defaultMosaicMethod": "Center",
 "allowedMosaicMethods": "",
 "sortField": "",
 "sortValue": null,
 "sortAscending": true,
 "mosaicOperator": "First",
 "defaultCompressionQuality": 75,
 "defaultResamplingMethod": "Bilinear",
 "maxImageHeight": 4100,
 "maxImageWidth": 15000,
 "allowRasterFunction": true,
 "rasterFunctionInfos": [
  {
   "name": "None",
   "description": "",
   "help": ""
  }
 ],
 "rasterTypeInfos": [
  {
   "name": "Raster Dataset",
   "description": "Supports all ArcGIS Raster Datasets",
   "help": ""
  }
 ],
 "mensurationCapabilities": "Basic",
 "hasHistograms": true,
 "hasColormap": false,
 "hasRasterAttributeTable": false,
 "minScale": 0,
 "maxScale": 0,
 "exportTilesAllowed": false,
 "hasMultidimensions": false,
 "supportsStatistics": false,
 "supportsAdvancedQueries": false,
 "editFieldsInfo": null,
 "ownershipBasedAccessControlForRasters": null,
 "allowComputeTiePoints": false,
 "useStandardizedQueries": true,
 "advancedQueryCapabilities": {
  "useStandardizedQueries": true,
  "supportsStatistics": false,
  "supportsOrderBy": false,
  "supportsDistinct": false,
  "supportsPagination": false
 },
 "spatialReference": {
  "wkid": 32145,
  "latestWkid": 32145
 }
}
