View In:
ArcGIS JavaScript
ArcGIS Online Map Viewer
ArcGIS Earth
ArcMap
View Footprint In:
ArcGIS Online Map Viewer
Service Description: FEMA_Mohawk2007_Oneida2008_2_meter
Name: FEMA_Mohawk2007_Oneida2008_2_meter
Description: FEMA_Mohawk2007_Oneida2008_2_meter
Single Fused Map Cache: false
Extent:
XMin: 427500.0000000019
YMin: 4743000.000000002
XMax: 582000.0000000019
YMax: 4796250.000000002
Spatial Reference: 26918
(26918)
Initial Extent:
XMin: 427500.0000000019
YMin: 4743000.000000002
XMax: 582000.0000000019
YMax: 4796250.000000002
Spatial Reference: 26918
(26918)
Full Extent:
XMin: 427500.0000000019
YMin: 4743000.000000002
XMax: 582000.0000000019
YMax: 4796250.000000002
Spatial Reference: 26918
(26918)
Pixel Size X: 1.9999999999999993
Pixel Size Y: 2.0
Band Count: 1
Pixel Type: F32
RasterFunction Infos: {"rasterFunctionInfos": [{
"name": "None",
"description": "",
"help": ""
}]}
Mensuration Capabilities: Basic
Has Histograms: true
Has Colormap: false
Has Multi Dimensions : false
Rendering Rule:
Min Scale: 0
Max Scale: 0
Copyright Text:
Service Data Type: esriImageServiceDataTypeGeneric
Min Values: 66.33201599121094
Max Values: 591.5498046875
Mean Values: 227.92964398216768
Standard Deviation Values: 91.99491401552771
Object ID Field:
Fields:
None
Default Mosaic Method: Center
Allowed Mosaic Methods:
SortField:
SortValue: null
Mosaic Operator: First
Default Compression Quality: 75
Default Resampling Method: Bilinear
Max Record Count: null
Max Image Height: 4100
Max Image Width: 15000
Max Download Image Count: null
Max Mosaic Image Count: null
Allow Raster Function: true
Allow Copy: null
Allow Analysis: null
Allow Compute TiePoints: false
Supports Statistics: false
Supports Advanced Queries: false
Use StandardizedQueries: true
Raster Type Infos:
Name: Raster Dataset
Description: Supports all ArcGIS Raster Datasets
Help:
Has Raster Attribute Table: false
Edit Fields Info: null
Ownership Based AccessControl For Rasters: null
Child Resources:
Info
Histograms
Key Properties
Legend
Raster Function Infos
Supported Operations:
Export Image
Identify
Measure
Compute Histograms
Compute Statistics Histograms
Get Samples
Compute Class Statistics
Query Boundary
Compute Pixel Location
Validate
Project