View In:
ArcGIS JavaScript
ArcGIS Online Map Viewer
ArcGIS Earth
ArcMap
View Footprint In:
ArcGIS Online Map Viewer
Service Description: FEMA_Suffolk2006_2_meter
Name: FEMA_Suffolk2006_2_meter
Description: FEMA_Suffolk2006_2_meter
Single Fused Map Cache: false
Extent:
XMin: 625500
YMin: 4495499.926848189
XMax: 765000.283464
YMax: 4578000.094488189
Spatial Reference: 26918
(26918)
Initial Extent:
XMin: 625500
YMin: 4495499.926848189
XMax: 765000.283464
YMax: 4578000.094488189
Spatial Reference: 26918
(26918)
Full Extent:
XMin: 625500
YMin: 4495499.926848189
XMax: 765000.283464
YMax: 4578000.094488189
Spatial Reference: 26918
(26918)
Pixel Size X: 2.0000040639999996
Pixel Size Y: 2.0000040639999916
Band Count: 1
Pixel Type: F32
RasterFunction Infos: {"rasterFunctionInfos": [{
"name": "None",
"description": "",
"help": ""
}]}
Mensuration Capabilities: Basic
Has Histograms: true
Has Colormap: false
Has Multi Dimensions : false
Rendering Rule:
Min Scale: 0
Max Scale: 0
Copyright Text:
Service Data Type: esriImageServiceDataTypeGeneric
Min Values: -9999
Max Values: 121.61609649658203
Mean Values: -1036.198785202871
Standard Deviation Values: 3070.0236712221695
Object ID Field:
Fields:
None
Default Mosaic Method: Center
Allowed Mosaic Methods:
SortField:
SortValue: null
Mosaic Operator: First
Default Compression Quality: 75
Default Resampling Method: Bilinear
Max Record Count: null
Max Image Height: 4100
Max Image Width: 15000
Max Download Image Count: null
Max Mosaic Image Count: null
Allow Raster Function: true
Allow Copy: null
Allow Analysis: null
Allow Compute TiePoints: false
Supports Statistics: false
Supports Advanced Queries: false
Use StandardizedQueries: true
Raster Type Infos:
Name: Raster Dataset
Description: Supports all ArcGIS Raster Datasets
Help:
Has Raster Attribute Table: false
Edit Fields Info: null
Ownership Based AccessControl For Rasters: null
Child Resources:
Info
Histograms
Key Properties
Legend
Raster Function Infos
Supported Operations:
Export Image
Identify
Measure
Compute Histograms
Compute Statistics Histograms
Get Samples
Compute Class Statistics
Query Boundary
Compute Pixel Location
Validate
Project