View In:
ArcGIS JavaScript
ArcGIS Online Map Viewer
ArcGIS Earth
ArcMap
View Footprint In:
ArcGIS Online Map Viewer
Service Description: NYSDEC_Coastal2011_1_Meter
Name: NYSDEC_Coastal2011_1_Meter
Description: NYSDEC_Coastal2011_1_Meter
Single Fused Map Cache: false
Extent:
XMin: 578740.9999999999
YMin: 4492145
XMax: 764369.9999999999
YMax: 4736210
Spatial Reference: 26918
(26918)
Initial Extent:
XMin: 578740.9999999999
YMin: 4492145
XMax: 764369.9999999999
YMax: 4736210
Spatial Reference: 26918
(26918)
Full Extent:
XMin: 578740.9999999999
YMin: 4492145
XMax: 764369.9999999999
YMax: 4736210
Spatial Reference: 26918
(26918)
Pixel Size X: 1.0
Pixel Size Y: 1.0
Band Count: 1
Pixel Type: F32
RasterFunction Infos: {"rasterFunctionInfos": [{
"name": "None",
"description": "",
"help": ""
}]}
Mensuration Capabilities: Basic
Has Histograms: true
Has Colormap: false
Has Multi Dimensions : false
Rendering Rule:
Min Scale: 0
Max Scale: 0
Copyright Text:
Service Data Type: esriImageServiceDataTypeGeneric
Min Values: -85.24573516845703
Max Values: 489.6474914550781
Mean Values: 20.9687069764478
Standard Deviation Values: 33.86539270970416
Object ID Field:
Fields:
None
Default Mosaic Method: Center
Allowed Mosaic Methods:
SortField:
SortValue: null
Mosaic Operator: First
Default Compression Quality: 75
Default Resampling Method: Bilinear
Max Record Count: null
Max Image Height: 4100
Max Image Width: 15000
Max Download Image Count: null
Max Mosaic Image Count: null
Allow Raster Function: true
Allow Copy: null
Allow Analysis: null
Allow Compute TiePoints: false
Supports Statistics: false
Supports Advanced Queries: false
Use StandardizedQueries: true
Raster Type Infos:
Name: Raster Dataset
Description: Supports all ArcGIS Raster Datasets
Help:
Has Raster Attribute Table: false
Edit Fields Info: null
Ownership Based AccessControl For Rasters: null
Child Resources:
Info
Histograms
Key Properties
Legend
Raster Function Infos
Supported Operations:
Export Image
Identify
Measure
Compute Histograms
Compute Statistics Histograms
Get Samples
Compute Class Statistics
Query Boundary
Compute Pixel Location
Validate
Project