View In:
ArcGIS JavaScript
ArcGIS Online Map Viewer
ArcGIS Earth
ArcMap
View Footprint In:
ArcGIS Online Map Viewer
Service Description: 1 meter hydro flattened bare earth Digital Elevation Model (DEM) ESRI Raster Image Service for the 2023 Lake Ontario Shoreline LIDAR Collection (Orleans County). Geographic Extent: Orleans County. Dataset Description: The lidar project called for the Planning, Acquisition, processing and derivative products of lidar data to be collected at a nominal pulse spacing (NPS) of 0.7 meters. Project specifications are based on the U.S. Geological Survey National Geospatial Program Base Lidar Specification v2021, Rev. A. The data was developed based on a horizontal projection/datum of NAD83 (2011), Universal Transverse Mercator, meters and vertical datum of NAVD88 (GEOID18), meters. Last updated 09/01/2025. Please contact NYS ITS Geospatial Services at nysgis@its.ny.gov if you have any questions.
Name: NYS_LakeOntarioShoreline_Orleans
Description: 1 meter hydro flattened bare earth Digital Elevation Model (DEM) ESRI Raster Image Service for the 2023 Lake Ontario Shoreline LIDAR Collection (Orleans County). Geographic Extent: Orleans County. Dataset Description: The lidar project called for the Planning, Acquisition, processing and derivative products of lidar data to be collected at a nominal pulse spacing (NPS) of 0.7 meters. Project specifications are based on the U.S. Geological Survey National Geospatial Program Base Lidar Specification v2021, Rev. A. The data was developed based on a horizontal projection/datum of NAD83 (2011), Universal Transverse Mercator, meters and vertical datum of NAVD88 (GEOID18), meters. Last updated 09/01/2025. Please contact NYS ITS Geospatial Services at nysgis@its.ny.gov if you have any questions.
Single Fused Map Cache: false
Extent:
XMin: 217500
YMin: 4779000
XMax: 258000
YMax: 4809000
Spatial Reference: 102387
(6347)
VCSWkid(5703)
LatestVCSWkid(5703)
Initial Extent:
XMin: 217500
YMin: 4779000
XMax: 258000
YMax: 4809000
Spatial Reference: 102387
(6347)
VCSWkid(5703)
LatestVCSWkid(5703)
Full Extent:
XMin: 217500
YMin: 4779000
XMax: 258000
YMax: 4809000
Spatial Reference: 102387
(6347)
VCSWkid(5703)
LatestVCSWkid(5703)
Pixel Size X: 1.0
Pixel Size Y: 1.0
Band Count: 1
Pixel Type: F32
RasterFunction Infos: {"rasterFunctionInfos": [{
"name": "None",
"description": "",
"help": ""
}]}
Mensuration Capabilities: Basic
Has Histograms: true
Has Colormap: false
Has Multi Dimensions : false
Rendering Rule:
Min Scale: 0
Max Scale: 0
Copyright Text: NYS ITS Geospatial Services
Service Data Type: esriImageServiceDataTypeGeneric
Min Values: 75.04299926757812
Max Values: 227.8358917236328
Mean Values: 145.5656504717398
Standard Deviation Values: 42.740361400695484
Object ID Field:
Fields:
None
Default Mosaic Method: Center
Allowed Mosaic Methods:
SortField:
SortValue: null
Mosaic Operator: First
Default Compression Quality: 75
Default Resampling Method: Bilinear
Max Record Count: null
Max Image Height: 4100
Max Image Width: 15000
Max Download Image Count: null
Max Mosaic Image Count: null
Allow Raster Function: true
Allow Copy: null
Allow Analysis: null
Allow Compute TiePoints: false
Supports Statistics: false
Supports Advanced Queries: false
Use StandardizedQueries: true
Raster Type Infos:
Name: Raster Dataset
Description: Supports all ArcGIS Raster Datasets
Help:
Has Raster Attribute Table: false
Edit Fields Info: null
Ownership Based AccessControl For Rasters: null
Child Resources:
Info
Histograms
Key Properties
Legend
Raster Function Infos
Supported Operations:
Export Image
Identify
Measure
Compute Histograms
Compute Statistics Histograms
Get Samples
Compute Class Statistics
Query Boundary
Compute Pixel Location
Validate
Project