View In:
ArcGIS JavaScript
ArcGIS Online map viewer
Google Earth
ArcMap
View Footprint In:
ArcGIS Online map viewer
Service Description: USDA_DeanCreek2011_1_meter
Name: USDA_DeanCreek2011_1_meter
Description: USDA_DeanCreek2011_1_meter
Single Fused Map Cache: false
Extent:
XMin: 370242.0001220703
YMin: 4650565.00012207
XMax: 387139.0001220703
YMax: 4679907.00012207
Spatial Reference: 26918
(26918)
Initial Extent:
XMin: 370242.0001220703
YMin: 4650565.00012207
XMax: 387139.0001220703
YMax: 4679907.00012207
Spatial Reference: 26918
(26918)
Full Extent:
XMin: 370242.0001220703
YMin: 4650565.00012207
XMax: 387139.0001220703
YMax: 4679907.00012207
Spatial Reference: 26918
(26918)
Pixel Size X: 1.0
Pixel Size Y: 1.0
Band Count: 1
Pixel Type: F32
RasterFunction Infos: {"name":"None","description":"","help":""}
Mensuration Capabilities: Basic
Has Histograms: true
Has Colormap: false
Has Multi Dimensions : false
Rendering Rule:
Min Scale: 0
Max Scale: 0
Copyright Text:
Service Data Type: esriImageServiceDataTypeGeneric
Min Values: 232.32936096191406
Max Values: 527.8507080078125
Mean Values: 380.91827619802234
Standard Deviation Values: 63.50405797287237
Object ID Field:
Fields:
None
Default Mosaic Method: Center
Allowed Mosaic Methods:
SortField:
SortValue: null
Mosaic Operator: First
Default Compression Quality: 75
Default Resampling Method: Bilinear
Max Record Count: null
Max Image Height: 4100
Max Image Width: 15000
Max Download Image Count: null
Max Mosaic Image Count: null
Allow Raster Function: true
Allow Compute TiePoints: false
Supports Statistics: false
Supports Advanced Queries: false
Use StandardizedQueries: true
Raster Type Infos:
Name: Raster Dataset
Description: Supports all ArcGIS Raster Datasets
Help:
Has Raster Attribute Table: false
Edit Fields Info: null
Ownership Based AccessControl For Rasters: null
Child Resources:
Info
Histograms
Key Properties
Legend
MultiDimensionalInfo
rasterFunctionInfos
Supported Operations:
Export Image
Identify
Measure
Compute Histograms
Compute Statistics Histograms
Get Samples
Compute Class Statistics