View In:
ArcGIS JavaScript
ArcGIS Online Map Viewer
ArcGIS Earth
ArcMap
View Footprint In:
ArcGIS Online Map Viewer
Service Description: USDA_Lewis2011_1_meter
Name: USDA_Lewis2011_1_meter
Description: USDA_Lewis2011_1_meter
Single Fused Map Cache: false
Extent:
XMin: 441999.9999999997
YMin: 4814000.000000001
XMax: 478999.9999999997
YMax: 4874000.000000001
Spatial Reference: 26918
(26918)
Initial Extent:
XMin: 441999.9999999997
YMin: 4814000.000000001
XMax: 478999.9999999997
YMax: 4874000.000000001
Spatial Reference: 26918
(26918)
Full Extent:
XMin: 441999.9999999997
YMin: 4814000.000000001
XMax: 478999.9999999997
YMax: 4874000.000000001
Spatial Reference: 26918
(26918)
Pixel Size X: 1.0
Pixel Size Y: 1.0
Band Count: 1
Pixel Type: F32
RasterFunction Infos: {"rasterFunctionInfos": [{
"name": "None",
"description": "",
"help": ""
}]}
Mensuration Capabilities: Basic
Has Histograms: true
Has Colormap: false
Has Multi Dimensions : false
Rendering Rule:
Min Scale: 0
Max Scale: 0
Copyright Text:
Service Data Type: esriImageServiceDataTypeGeneric
Min Values: 219.36599731445312
Max Values: 644.7449951171875
Mean Values: 344.2510244593791
Standard Deviation Values: 108.1798760645819
Object ID Field:
Fields:
None
Default Mosaic Method: Center
Allowed Mosaic Methods:
SortField:
SortValue: null
Mosaic Operator: First
Default Compression Quality: 75
Default Resampling Method: Bilinear
Max Record Count: null
Max Image Height: 4100
Max Image Width: 15000
Max Download Image Count: null
Max Mosaic Image Count: null
Allow Raster Function: true
Allow Copy: null
Allow Analysis: null
Allow Compute TiePoints: false
Supports Statistics: false
Supports Advanced Queries: false
Use StandardizedQueries: true
Raster Type Infos:
Name: Raster Dataset
Description: Supports all ArcGIS Raster Datasets
Help:
Has Raster Attribute Table: false
Edit Fields Info: null
Ownership Based AccessControl For Rasters: null
Child Resources:
Info
Histograms
Key Properties
Legend
Raster Function Infos
Supported Operations:
Export Image
Identify
Measure
Compute Histograms
Compute Statistics Histograms
Get Samples
Compute Class Statistics
Query Boundary
Compute Pixel Location
Validate
Project