View In:
ArcGIS JavaScript
ArcGIS Online Map Viewer
ArcGIS Earth
ArcMap
View Footprint In:
ArcGIS Online Map Viewer
Service Description: The National Elevation Dataset (NED) is a seamless raster product primarily derived from USGS 10- and 30-meter Digital Elevation Models (DEMs). NED data are available from The National Map Viewer as 1 arc-second (approximately 30 meters) for the CONUS, and at 1/3 and 1/9 arc-seconds (approximately 10 and 3 meters, respectively) for parts of the United States. - from the USGS National Map web site Constraints: Not to be used for navigation, for informational purposes only. See full disclaimer for more information
Name: USGS_10_meter
Description: The National Elevation Dataset (NED) is a seamless raster product primarily derived from USGS 10- and 30-meter Digital Elevation Models (DEMs). NED data are available from The National Map Viewer as 1 arc-second (approximately 30 meters) for the CONUS, and at 1/3 and 1/9 arc-seconds (approximately 10 and 3 meters, respectively) for parts of the United States. - from the USGS National Map web site Constraints: Not to be used for navigation, for informational purposes only. See full disclaimer for more information
Single Fused Map Cache: false
Extent:
XMin: 106356.99096187338
YMin: 4483315
XMax: 763296.9909618734
YMax: 4984225
Spatial Reference: 26718
(26718)
Initial Extent:
XMin: 106356.99096187338
YMin: 4483315
XMax: 763296.9909618734
YMax: 4984225
Spatial Reference: 26718
(26718)
Full Extent:
XMin: 106356.99096187338
YMin: 4483315
XMax: 763296.9909618734
YMax: 4984225
Spatial Reference: 26718
(26718)
Pixel Size X: 10.0
Pixel Size Y: 10.0
Band Count: 1
Pixel Type: F32
RasterFunction Infos: {"rasterFunctionInfos": [{
"name": "None",
"description": "",
"help": ""
}]}
Mensuration Capabilities: Basic
Has Histograms: true
Has Colormap: false
Has Multi Dimensions : false
Rendering Rule:
Min Scale: 0
Max Scale: 0
Copyright Text: NYSGPO, USGS
Service Data Type: esriImageServiceDataTypeGeneric
Min Values: -6.599999904632568
Max Values: 1627.300048828125
Mean Values: 321.7304523765546
Standard Deviation Values: 202.5369123960483
Object ID Field:
Fields:
None
Default Mosaic Method: Center
Allowed Mosaic Methods:
SortField:
SortValue: null
Mosaic Operator: First
Default Compression Quality: 75
Default Resampling Method: Bilinear
Max Record Count: null
Max Image Height: 4100
Max Image Width: 15000
Max Download Image Count: null
Max Mosaic Image Count: null
Allow Raster Function: true
Allow Copy: null
Allow Analysis: null
Allow Compute TiePoints: false
Supports Statistics: false
Supports Advanced Queries: false
Use StandardizedQueries: true
Raster Type Infos:
Name: Raster Dataset
Description: Supports all ArcGIS Raster Datasets
Help:
Has Raster Attribute Table: false
Edit Fields Info: null
Ownership Based AccessControl For Rasters: null
Child Resources:
Info
Histograms
Key Properties
Legend
Raster Function Infos
Supported Operations:
Export Image
Identify
Measure
Compute Histograms
Compute Statistics Histograms
Get Samples
Compute Class Statistics
Query Boundary
Compute Pixel Location
Validate
Project