View In:
ArcGIS JavaScript
ArcGIS Online Map Viewer
ArcGIS Earth
ArcMap
View Footprint In:
ArcGIS Online Map Viewer
Service Description: 1 meter hydro flattened bare earth Digital Elevation Model (DEM) ESRI Raster Image Service for the 2017 FEMA Fulton, Saratoga, Herkimer Franklin LIDAR Collection. LIDAR data was collected at a nominal pulse spacing (NPS) of 0.71 meter. Project specifications are based on the U.S. Geological Survey National Geospatial Program Base Lidar Specification, Version 1.2. The data was developed based on a horizontal projection/datum NAD83 (2011), State Plane New York East FIPS 3101, meters and vertical datum of NAVD88 (GEOID 12B), meters.
This material is based upon work supported by the U.S. Geological Survey under Grant/Cooperative Agreement No. G16PC00016, Task Order No. 140G0218F0009
The views and conclusions contained in this document are those of the authors and should not be interpreted as representing the opinions or policies of the U.S. Geological Survey. Mention of trade names or commercial products does not constitute their endorsement by the U.S. Geological Survey
Name: FEMA_FultonSaratogaHerkimerFranklin2017_1meter
Description: 1 meter hydro flattened bare earth Digital Elevation Model (DEM) ESRI Raster Image Service for the 2017 FEMA Fulton, Saratoga, Herkimer Franklin LIDAR Collection. LIDAR data was collected at a nominal pulse spacing (NPS) of 0.71 meter. Project specifications are based on the U.S. Geological Survey National Geospatial Program Base Lidar Specification, Version 1.2. The data was developed based on a horizontal projection/datum NAD83 (2011), State Plane New York East FIPS 3101, meters and vertical datum of NAVD88 (GEOID 12B), meters.
This material is based upon work supported by the U.S. Geological Survey under Grant/Cooperative Agreement No. G16PC00016, Task Order No. 140G0218F0009
The views and conclusions contained in this document are those of the authors and should not be interpreted as representing the opinions or policies of the U.S. Geological Survey. Mention of trade names or commercial products does not constitute their endorsement by the U.S. Geological Survey
Single Fused Map Cache: false
Extent:
XMin: 96000
YMin: 456000
XMax: 198000
YMax: 649500
Spatial Reference: PROJCS["NAD_1983_StatePlane_New_York_East_FIPS_3101",GEOGCS["GCS_North_American_1983",DATUM["D_North_American_1983",SPHEROID["GRS_1980",6378137.0,298.257222101]],PRIMEM["Greenwich",0.0],UNIT["Degree",0.0174532925199433]],PROJECTION["Transverse_Mercator"],PARAMETER["False_Easting",150000.0],PARAMETER["False_Northing",0.0],PARAMETER["Central_Meridian",-74.5],PARAMETER["Scale_Factor",0.9999],PARAMETER["Latitude_Of_Origin",38.83333333333334],UNIT["Meter",1.0]],VERTCS["unknown",VDATUM["unknown"],PARAMETER["Vertical_Shift",0.0],PARAMETER["Direction",1.0],UNIT["Meter",1.0]]
Initial Extent:
XMin: 96000
YMin: 456000
XMax: 198000
YMax: 649500
Spatial Reference: PROJCS["NAD_1983_StatePlane_New_York_East_FIPS_3101",GEOGCS["GCS_North_American_1983",DATUM["D_North_American_1983",SPHEROID["GRS_1980",6378137.0,298.257222101]],PRIMEM["Greenwich",0.0],UNIT["Degree",0.0174532925199433]],PROJECTION["Transverse_Mercator"],PARAMETER["False_Easting",150000.0],PARAMETER["False_Northing",0.0],PARAMETER["Central_Meridian",-74.5],PARAMETER["Scale_Factor",0.9999],PARAMETER["Latitude_Of_Origin",38.83333333333334],UNIT["Meter",1.0]],VERTCS["unknown",VDATUM["unknown"],PARAMETER["Vertical_Shift",0.0],PARAMETER["Direction",1.0],UNIT["Meter",1.0]]
Full Extent:
XMin: 96000
YMin: 456000
XMax: 198000
YMax: 649500
Spatial Reference: PROJCS["NAD_1983_StatePlane_New_York_East_FIPS_3101",GEOGCS["GCS_North_American_1983",DATUM["D_North_American_1983",SPHEROID["GRS_1980",6378137.0,298.257222101]],PRIMEM["Greenwich",0.0],UNIT["Degree",0.0174532925199433]],PROJECTION["Transverse_Mercator"],PARAMETER["False_Easting",150000.0],PARAMETER["False_Northing",0.0],PARAMETER["Central_Meridian",-74.5],PARAMETER["Scale_Factor",0.9999],PARAMETER["Latitude_Of_Origin",38.83333333333334],UNIT["Meter",1.0]],VERTCS["unknown",VDATUM["unknown"],PARAMETER["Vertical_Shift",0.0],PARAMETER["Direction",1.0],UNIT["Meter",1.0]]
Pixel Size X: 1.0
Pixel Size Y: 1.0
Band Count: 1
Pixel Type: F32
RasterFunction Infos: {"rasterFunctionInfos": [{
"name": "None",
"description": "",
"help": ""
}]}
Mensuration Capabilities: Basic
Has Histograms: true
Has Colormap: false
Has Multi Dimensions : false
Rendering Rule:
Min Scale: 0
Max Scale: 0
Copyright Text: NYS Office of Information Technology Services GIS Program Office (GPO) / Federal Emergency Management Agency (FEMA)
Service Data Type: esriImageServiceDataTypeGeneric
Min Values: 125.82749938964844
Max Values: 1017.2839965820312
Mean Values: 476.40001598698785
Standard Deviation Values: 129.83175524294842
Object ID Field:
Fields:
None
Default Mosaic Method: Center
Allowed Mosaic Methods:
SortField:
SortValue: null
Mosaic Operator: First
Default Compression Quality: 75
Default Resampling Method: Bilinear
Max Record Count: null
Max Image Height: 4100
Max Image Width: 15000
Max Download Image Count: null
Max Mosaic Image Count: null
Allow Raster Function: true
Allow Copy: null
Allow Analysis: null
Allow Compute TiePoints: false
Supports Statistics: false
Supports Advanced Queries: false
Use StandardizedQueries: true
Raster Type Infos:
Name: Raster Dataset
Description: Supports all ArcGIS Raster Datasets
Help:
Has Raster Attribute Table: false
Edit Fields Info: null
Ownership Based AccessControl For Rasters: null
Child Resources:
Info
Histograms
Key Properties
Legend
Raster Function Infos
Supported Operations:
Export Image
Identify
Measure
Compute Histograms
Compute Statistics Histograms
Get Samples
Compute Class Statistics
Query Boundary
Compute Pixel Location
Validate
Project