View In:
ArcGIS JavaScript
ArcGIS Online Map Viewer
ArcGIS Earth
ArcMap
View Footprint In:
ArcGIS Online Map Viewer
Service Description: Mosaic dataset of high resolution (1 meter) Bare Earth Digital Elevation Model's (DEM's). Newest and hightest resolution data is stored on top. This mosaic is a combination of County, State, and Federal Collections. For more information please visit the DEM status page at https://gis.ny.gov/nys-dem. Please contact NYS ITS Geospatial Services at nysgis@its.ny.govif you have any questions.
Name: Latest_DEM
Description: Mosaic dataset of high resolution (1 meter) Bare Earth Digital Elevation Model's (DEM's). Newest and hightest resolution data is stored on top. This mosaic is a combination of County, State, and Federal Collections. For more information please visit the DEM status page at https://gis.ny.gov/nys-dem. Please contact NYS ITS Geospatial Services at nysgis@its.ny.govif you have any questions.
Single Fused Map Cache: false
Extent:
XMin: 105009.48900000006
YMin: 4482560.999999999
XMax: 765000.4890000001
YMax: 4985689.999999999
Spatial Reference: 26918
(26918)
Initial Extent:
XMin: 105009.48900000006
YMin: 4482560.999999999
XMax: 765000.4890000001
YMax: 4985689.999999999
Spatial Reference: 26918
(26918)
Full Extent:
XMin: 105009.48900000006
YMin: 4482560.999999999
XMax: 765000.4890000001
YMax: 4985689.999999999
Spatial Reference: 26918
(26918)
Pixel Size X: 1.0
Pixel Size Y: 1.0
Band Count: 1
Pixel Type: F32
RasterFunction Infos: {"rasterFunctionInfos": [{
"name": "None",
"description": "",
"help": ""
}]}
Mensuration Capabilities: None
Has Histograms: true
Has Colormap: false
Has Multi Dimensions : false
Rendering Rule:
Min Scale: 0
Max Scale: 0
Copyright Text: NYS ITS Geospatial Services, United State Geological Survey (USGS), and FEMA
Service Data Type: esriImageServiceDataTypeGeneric
Min Values: -94.2557343095541
Max Values: 1625.5989273637533
Mean Values: 346.39919067675567
Standard Deviation Values: 181.37734759495868
Object ID Field: OBJECTID
Fields:
-
OBJECTID
(
type: esriFieldTypeOID, alias: OBJECTID
)
-
Shape
(
type: esriFieldTypeGeometry, alias: Shape
)
-
Name
(
type: esriFieldTypeString, alias: Name, length: 200
)
-
MinPS
(
type: esriFieldTypeDouble, alias: MinPS
)
-
MaxPS
(
type: esriFieldTypeDouble, alias: MaxPS
)
-
LowPS
(
type: esriFieldTypeDouble, alias: LowPS
)
-
HighPS
(
type: esriFieldTypeDouble, alias: HighPS
)
-
Category
(
type: esriFieldTypeInteger, alias: Category
, Coded Values:
[0: Unknown]
, [1: Primary]
, [2: Overview]
, ...6 more...
)
-
Tag
(
type: esriFieldTypeString, alias: Tag, length: 100
)
-
GroupName
(
type: esriFieldTypeString, alias: GroupName, length: 100
)
-
ProductName
(
type: esriFieldTypeString, alias: ProductName, length: 100
)
-
CenterX
(
type: esriFieldTypeDouble, alias: CenterX
)
-
CenterY
(
type: esriFieldTypeDouble, alias: CenterY
)
-
ZOrder
(
type: esriFieldTypeInteger, alias: ZOrder
)
-
Shape_Length
(
type: esriFieldTypeDouble, alias: Shape_Length
)
-
Shape_Area
(
type: esriFieldTypeDouble, alias: Shape_Area
)
Default Mosaic Method: Northwest
Allowed Mosaic Methods: NorthWest,Center,LockRaster,ByAttribute,Nadir,Viewpoint,Seamline,None
SortField:
SortValue: null
Mosaic Operator: First
Default Compression Quality: 75
Default Resampling Method: Bilinear
Max Record Count: 1000
Max Image Height: 4100
Max Image Width: 15000
Max Download Image Count: 20
Max Mosaic Image Count: 20
Allow Raster Function: true
Allow Copy: null
Allow Analysis: null
Allow Compute TiePoints: false
Supports Statistics: true
Supports Advanced Queries: true
Use StandardizedQueries: true
Raster Type Infos:
Name: Raster Dataset
Description: Supports all ArcGIS Raster Datasets
Help:
Has Raster Attribute Table: false
Edit Fields Info: null
Ownership Based AccessControl For Rasters: null
Child Resources:
Info
Histograms
Key Properties
Legend
Raster Function Infos
Supported Operations:
Export Image
Query
Identify
Compute Histograms
Compute Statistics Histograms
Get Samples
Compute Class Statistics
Query Boundary
Compute Pixel Location
Validate
Project