View In:
ArcGIS JavaScript
ArcGIS Online Map Viewer
ArcGIS Earth
ArcMap
View Footprint In:
ArcGIS Online Map Viewer
Service Description: 1 meter hydro flattened bare earth Digital Elevation Model (DEM) ESRI Raster Image Service for the 2020 NYSGPO Central Finger Lakes LIDAR Collection. The lidar project called for the Planning, Acquisition, processing and derivative products of lidar data to be collected at a nominal pulse spacing (NPS) of 0.7 meters. Project specifications are based on the U.S. Geological Survey National Geospatial Program Base Lidar Specification, Version 2.1. The data was developed based on a horizontal projection/datum of NAD83 (2011), Universal Transverse Mercator, meters and vertical datum of NAVD88 (GEOID12B), meters. Lidar data was delivered as flightline-extent unclassified LAS swaths, as processed Classified LAS 1.4 files, formatted to 2239 individual 1500 m x 1500 m tiles, as tiled Intensity Rasters, and as tiled bare-earth DEMs; all tiled to the same 1500 m x 1500 m schema.
Name: NYSGPO_CentralFingerLakes2020_1_meter
Description: 1 meter hydro flattened bare earth Digital Elevation Model (DEM) ESRI Raster Image Service for the 2020 NYSGPO Central Finger Lakes LIDAR Collection. The lidar project called for the Planning, Acquisition, processing and derivative products of lidar data to be collected at a nominal pulse spacing (NPS) of 0.7 meters. Project specifications are based on the U.S. Geological Survey National Geospatial Program Base Lidar Specification, Version 2.1. The data was developed based on a horizontal projection/datum of NAD83 (2011), Universal Transverse Mercator, meters and vertical datum of NAVD88 (GEOID12B), meters. Lidar data was delivered as flightline-extent unclassified LAS swaths, as processed Classified LAS 1.4 files, formatted to 2239 individual 1500 m x 1500 m tiles, as tiled Intensity Rasters, and as tiled bare-earth DEMs; all tiled to the same 1500 m x 1500 m schema.
Single Fused Map Cache: false
Extent:
XMin: 305999.9999999986
YMin: 4677000
XMax: 397499.9999999986
YMax: 4788000
Spatial Reference: 102387
(6347)
VCSWkid(5703)
LatestVCSWkid(5703)
Initial Extent:
XMin: 305999.9999999986
YMin: 4677000
XMax: 397499.9999999986
YMax: 4788000
Spatial Reference: 102387
(6347)
VCSWkid(5703)
LatestVCSWkid(5703)
Full Extent:
XMin: 305999.9999999986
YMin: 4677000
XMax: 397499.9999999986
YMax: 4788000
Spatial Reference: 102387
(6347)
VCSWkid(5703)
LatestVCSWkid(5703)
Pixel Size X: 1.0
Pixel Size Y: 1.0
Band Count: 1
Pixel Type: F32
RasterFunction Infos: {"rasterFunctionInfos": [{
"name": "None",
"description": "",
"help": ""
}]}
Mensuration Capabilities: Basic
Has Histograms: true
Has Colormap: false
Has Multi Dimensions : false
Rendering Rule:
Min Scale: 0
Max Scale: 0
Copyright Text: NYS GPO
Service Data Type: esriImageServiceDataTypeGeneric
Min Values: 75.83875274658203
Max Values: 640.4319458007812
Mean Values: 274.796268444544
Standard Deviation Values: 130.71153197437997
Object ID Field:
Fields:
None
Default Mosaic Method: Center
Allowed Mosaic Methods:
SortField:
SortValue: null
Mosaic Operator: First
Default Compression Quality: 75
Default Resampling Method: Bilinear
Max Record Count: null
Max Image Height: 4100
Max Image Width: 15000
Max Download Image Count: null
Max Mosaic Image Count: null
Allow Raster Function: true
Allow Copy: null
Allow Analysis: null
Allow Compute TiePoints: false
Supports Statistics: false
Supports Advanced Queries: false
Use StandardizedQueries: true
Raster Type Infos:
Name: Raster Dataset
Description: Supports all ArcGIS Raster Datasets
Help:
Has Raster Attribute Table: false
Edit Fields Info: null
Ownership Based AccessControl For Rasters: null
Child Resources:
Info
Histograms
Key Properties
Legend
Raster Function Infos
Supported Operations:
Export Image
Identify
Measure
Compute Histograms
Compute Statistics Histograms
Get Samples
Compute Class Statistics
Query Boundary
Compute Pixel Location
Validate
Project