View In:
ArcGIS JavaScript
ArcGIS Online Map Viewer
ArcGIS Earth
ArcMap
View Footprint In:
ArcGIS Online Map Viewer
Service Description: Digital Elevation Model (DEM) data for Chautauqua and portions of Cattaraugus Counties, New York as part of the required deliverables for the Southwest 17 Spring Lidar project. Class 2 (ground) lidar points in conjunction with the hydro breaklines were used to create a 1 meter hydro-flattened Raster DEM. Full metadata on this project can be found by visiting ftp://ftp.gis.ny.gov/elevation/DEM/NYSGPO_Southwest2017_Spring/2017NY-Southwest-NY-Hydro-Flattened-Bare-Earth-DEM-USGSv1.2.xml
Name: NYSGPO_Southwest2017_Spring_1_meter
Description: Digital Elevation Model (DEM) data for Chautauqua and portions of Cattaraugus Counties, New York as part of the required deliverables for the Southwest 17 Spring Lidar project. Class 2 (ground) lidar points in conjunction with the hydro breaklines were used to create a 1 meter hydro-flattened Raster DEM. Full metadata on this project can be found by visiting ftp://ftp.gis.ny.gov/elevation/DEM/NYSGPO_Southwest2017_Spring/2017NY-Southwest-NY-Hydro-Flattened-Bare-Earth-DEM-USGSv1.2.xml
Single Fused Map Cache: false
Extent:
XMin: 602000.0001220703
YMin: 4650000.00012207
XMax: 687500.0001220703
YMax: 4716000.00012207
Spatial Reference: 102386
(6346)
Initial Extent:
XMin: 602000.0001220703
YMin: 4650000.00012207
XMax: 687500.0001220703
YMax: 4716000.00012207
Spatial Reference: 102386
(6346)
Full Extent:
XMin: 602000.0001220703
YMin: 4650000.00012207
XMax: 687500.0001220703
YMax: 4716000.00012207
Spatial Reference: 102386
(6346)
Pixel Size X: 1.0
Pixel Size Y: 1.0
Band Count: 1
Pixel Type: F32
RasterFunction Infos: {"rasterFunctionInfos": [{
"name": "None",
"description": "",
"help": ""
}]}
Mensuration Capabilities: Basic
Has Histograms: true
Has Colormap: false
Has Multi Dimensions : false
Rendering Rule:
Min Scale: 0
Max Scale: 0
Copyright Text: NYS GIS Program Office
Service Data Type: esriImageServiceDataTypeGeneric
Min Values: 173.9199981689453
Max Values: 734.969970703125
Mean Values: 439.37289567427536
Standard Deviation Values: 104.67504022158955
Object ID Field:
Fields:
None
Default Mosaic Method: Center
Allowed Mosaic Methods:
SortField:
SortValue: null
Mosaic Operator: First
Default Compression Quality: 75
Default Resampling Method: Bilinear
Max Record Count: null
Max Image Height: 4100
Max Image Width: 15000
Max Download Image Count: null
Max Mosaic Image Count: null
Allow Raster Function: true
Allow Copy: null
Allow Analysis: null
Allow Compute TiePoints: false
Supports Statistics: false
Supports Advanced Queries: false
Use StandardizedQueries: true
Raster Type Infos:
Name: Raster Dataset
Description: Supports all ArcGIS Raster Datasets
Help:
Has Raster Attribute Table: false
Edit Fields Info: null
Ownership Based AccessControl For Rasters: null
Child Resources:
Info
Histograms
Key Properties
Legend
Raster Function Infos
Supported Operations:
Export Image
Identify
Measure
Compute Histograms
Compute Statistics Histograms
Get Samples
Compute Class Statistics
Query Boundary
Compute Pixel Location
Validate
Project