View In:
ArcGIS JavaScript
ArcGIS Online Map Viewer
ArcGIS Earth
ArcMap
View Footprint In:
ArcGIS Online Map Viewer
Service Description: The New York, Work Unit 300713 Lidar project called for the Planning, Acquisition, processing and derivative products of lidar data to be collected at a nominal point density of 2 points per square meter for QL2 data. Project specifications are based on the U.S. Geological Survey National Geospatial Program Base Lidar Specification 2024, revision A. The data was developed based on a horizontal projection/datum of NAD83 (2011), UTM 18N, meters and vertical datum of NAVD88 (GEOID18), meters. This task is for providing a spring 2024 leaf-off and snow-free lidar survey over an area of approximately 2,872 square miles. This project will support the 3DEP mission, the Natural Resources Conservation Service (NRCS) high-resolution elevation enterprise, as well as many state and local agencies. The New York work unit is approximately 2285 square miles and has 2810 tiles. To acquire detailed surface elevation data for use in conservation planning, design, research, floodplain mapping, dam safety assessments and elevation modeling, etc. Classified LAS files are used to show the manually reviewed bare earth surface. This allows the user to create intensity images, breaklines and raster DEMs. The purpose of these LiDAR data was to produce an auto generated elevation models (DEMs) with a 1 meter cell size.
Name: USGS_2024_1_meter
Description: The New York, Work Unit 300713 Lidar project called for the Planning, Acquisition, processing and derivative products of lidar data to be collected at a nominal point density of 2 points per square meter for QL2 data. Project specifications are based on the U.S. Geological Survey National Geospatial Program Base Lidar Specification 2024, revision A. The data was developed based on a horizontal projection/datum of NAD83 (2011), UTM 18N, meters and vertical datum of NAVD88 (GEOID18), meters. This task is for providing a spring 2024 leaf-off and snow-free lidar survey over an area of approximately 2,872 square miles. This project will support the 3DEP mission, the Natural Resources Conservation Service (NRCS) high-resolution elevation enterprise, as well as many state and local agencies. The New York work unit is approximately 2285 square miles and has 2810 tiles. To acquire detailed surface elevation data for use in conservation planning, design, research, floodplain mapping, dam safety assessments and elevation modeling, etc. Classified LAS files are used to show the manually reviewed bare earth surface. This allows the user to create intensity images, breaklines and raster DEMs. The purpose of these LiDAR data was to produce an auto generated elevation models (DEMs) with a 1 meter cell size.
Single Fused Map Cache: false
Extent:
XMin: 535399
YMin: 4800401
XMax: 642079
YMax: 4904344
Spatial Reference: 102387
(6347)
VCSWkid(5703)
LatestVCSWkid(5703)
Initial Extent:
XMin: 535399
YMin: 4800401
XMax: 642079
YMax: 4904344
Spatial Reference: 102387
(6347)
VCSWkid(5703)
LatestVCSWkid(5703)
Full Extent:
XMin: 535399
YMin: 4800401
XMax: 642079
YMax: 4904344
Spatial Reference: 102387
(6347)
VCSWkid(5703)
LatestVCSWkid(5703)
Pixel Size X: 1.0
Pixel Size Y: 1.0
Band Count: 1
Pixel Type: F32
RasterFunction Infos: {"rasterFunctionInfos": [{
"name": "None",
"description": "",
"help": ""
}]}
Mensuration Capabilities: Basic
Has Histograms: true
Has Colormap: false
Has Multi Dimensions : false
Rendering Rule:
Min Scale: 0
Max Scale: 0
Copyright Text: NYS ITS Geospatial Services, USGS
Service Data Type: esriImageServiceDataTypeGeneric
Min Values: 28.391605377197266
Max Values: 1628.863037109375
Mean Values: 453.41652075902743
Standard Deviation Values: 210.7686984336522
Object ID Field:
Fields:
None
Default Mosaic Method: Center
Allowed Mosaic Methods:
SortField:
SortValue: null
Mosaic Operator: First
Default Compression Quality: 75
Default Resampling Method: Bilinear
Max Record Count: null
Max Image Height: 4100
Max Image Width: 15000
Max Download Image Count: null
Max Mosaic Image Count: null
Allow Raster Function: true
Allow Copy: null
Allow Analysis: null
Allow Compute TiePoints: false
Supports Statistics: false
Supports Advanced Queries: false
Use StandardizedQueries: true
Raster Type Infos:
Name: Raster Dataset
Description: Supports all ArcGIS Raster Datasets
Help:
Has Raster Attribute Table: false
Edit Fields Info: null
Ownership Based AccessControl For Rasters: null
Child Resources:
Info
Histograms
Key Properties
Legend
Raster Function Infos
Supported Operations:
Export Image
Identify
Measure
Compute Histograms
Compute Statistics Histograms
Get Samples
Compute Class Statistics
Query Boundary
Compute Pixel Location
Validate
Project