View In:
ArcGIS JavaScript
ArcGIS Online Map Viewer
ArcGIS Earth
ArcMap
View Footprint In:
ArcGIS Online Map Viewer
Service Description: USGS_Northeast2011_2_meter
Name: USGS_Northeast2011_2_meter
Description: USGS_Northeast2011_2_meter
Single Fused Map Cache: false
Extent:
XMin: 564058.000000001
YMin: 4492499.999999563
XMax: 633528.000000001
YMax: 4615499.999999563
Spatial Reference: 26918
(26918)
Initial Extent:
XMin: 564058.000000001
YMin: 4492499.999999563
XMax: 633528.000000001
YMax: 4615499.999999563
Spatial Reference: 26918
(26918)
Full Extent:
XMin: 564058.000000001
YMin: 4492499.999999563
XMax: 633528.000000001
YMax: 4615499.999999563
Spatial Reference: 26918
(26918)
Pixel Size X: 2.0
Pixel Size Y: 2.0
Band Count: 1
Pixel Type: F32
RasterFunction Infos: {"rasterFunctionInfos": [{
"name": "None",
"description": "",
"help": ""
}]}
Mensuration Capabilities: Basic
Has Histograms: true
Has Colormap: false
Has Multi Dimensions : false
Rendering Rule:
Min Scale: 0
Max Scale: 0
Copyright Text:
Service Data Type: esriImageServiceDataTypeGeneric
Min Values: -80.87000274658203
Max Values: 489.52142333984375
Mean Values: 68.95326410756762
Standard Deviation Values: 83.15439646357274
Object ID Field:
Fields:
None
Default Mosaic Method: Center
Allowed Mosaic Methods:
SortField:
SortValue: null
Mosaic Operator: First
Default Compression Quality: 75
Default Resampling Method: Bilinear
Max Record Count: null
Max Image Height: 4100
Max Image Width: 15000
Max Download Image Count: null
Max Mosaic Image Count: null
Allow Raster Function: true
Allow Copy: null
Allow Analysis: null
Allow Compute TiePoints: false
Supports Statistics: false
Supports Advanced Queries: false
Use StandardizedQueries: true
Raster Type Infos:
Name: Raster Dataset
Description: Supports all ArcGIS Raster Datasets
Help:
Has Raster Attribute Table: false
Edit Fields Info: null
Ownership Based AccessControl For Rasters: null
Child Resources:
Info
Histograms
Key Properties
Legend
Raster Function Infos
Supported Operations:
Export Image
Identify
Measure
Compute Histograms
Compute Statistics Histograms
Get Samples
Compute Class Statistics
Query Boundary
Compute Pixel Location
Validate
Project