View In:
ArcGIS JavaScript
ArcGIS Online Map Viewer
ArcGIS Earth
ArcMap
View Footprint In:
ArcGIS Online Map Viewer
Service Description: Vermont_GrandIsle2013_07_meter
Name: Vermont_GrandIsle2013_07_meter
Description: Vermont_GrandIsle2013_07_meter
Single Fused Map Cache: false
Extent:
XMin: 426784.4
YMin: 170174.89999999997
XMax: 488674.9
YMax: 279672.39999999997
Spatial Reference: 32145
(32145)
Initial Extent:
XMin: 426784.4
YMin: 170174.89999999997
XMax: 488674.9
YMax: 279672.39999999997
Spatial Reference: 32145
(32145)
Full Extent:
XMin: 426784.4
YMin: 170174.89999999997
XMax: 488674.9
YMax: 279672.39999999997
Spatial Reference: 32145
(32145)
Pixel Size X: 0.7
Pixel Size Y: 0.7
Band Count: 1
Pixel Type: F32
RasterFunction Infos: {"rasterFunctionInfos": [{
"name": "None",
"description": "",
"help": ""
}]}
Mensuration Capabilities: Basic
Has Histograms: true
Has Colormap: false
Has Multi Dimensions : false
Rendering Rule:
Min Scale: 0
Max Scale: 0
Copyright Text:
Service Data Type: esriImageServiceDataTypeGeneric
Min Values: 12.79465103149414
Max Values: 1090.2137451171875
Mean Values: 165.70269825716613
Standard Deviation Values: 195.75157325837824
Object ID Field:
Fields:
None
Default Mosaic Method: Center
Allowed Mosaic Methods:
SortField:
SortValue: null
Mosaic Operator: First
Default Compression Quality: 75
Default Resampling Method: Bilinear
Max Record Count: null
Max Image Height: 4100
Max Image Width: 15000
Max Download Image Count: null
Max Mosaic Image Count: null
Allow Raster Function: true
Allow Copy: null
Allow Analysis: null
Allow Compute TiePoints: false
Supports Statistics: false
Supports Advanced Queries: false
Use StandardizedQueries: true
Raster Type Infos:
Name: Raster Dataset
Description: Supports all ArcGIS Raster Datasets
Help:
Has Raster Attribute Table: false
Edit Fields Info: null
Ownership Based AccessControl For Rasters: null
Child Resources:
Info
Histograms
Key Properties
Legend
Raster Function Infos
Supported Operations:
Export Image
Identify
Measure
Compute Histograms
Compute Statistics Histograms
Get Samples
Compute Class Statistics
Query Boundary
Compute Pixel Location
Validate
Project